BEGIN:VCALENDAR
VERSION:2.0
PRODID:-//OP Lutheran Church | Overland Park, KS - ECPv6.15.20//NONSGML v1.0//EN
CALSCALE:GREGORIAN
METHOD:PUBLISH
X-WR-CALNAME:OP Lutheran Church | Overland Park, KS
X-ORIGINAL-URL:https://oplutheran.com
X-WR-CALDESC:Events for OP Lutheran Church | Overland Park, KS
REFRESH-INTERVAL;VALUE=DURATION:PT1H
X-Robots-Tag:noindex
X-PUBLISHED-TTL:PT1H
BEGIN:VTIMEZONE
TZID:America/Chicago
BEGIN:DAYLIGHT
TZOFFSETFROM:-0600
TZOFFSETTO:-0500
TZNAME:CDT
DTSTART:20240310T080000
END:DAYLIGHT
BEGIN:STANDARD
TZOFFSETFROM:-0500
TZOFFSETTO:-0600
TZNAME:CST
DTSTART:20241103T070000
END:STANDARD
BEGIN:DAYLIGHT
TZOFFSETFROM:-0600
TZOFFSETTO:-0500
TZNAME:CDT
DTSTART:20250309T080000
END:DAYLIGHT
BEGIN:STANDARD
TZOFFSETFROM:-0500
TZOFFSETTO:-0600
TZNAME:CST
DTSTART:20251102T070000
END:STANDARD
BEGIN:DAYLIGHT
TZOFFSETFROM:-0600
TZOFFSETTO:-0500
TZNAME:CDT
DTSTART:20260308T080000
END:DAYLIGHT
BEGIN:STANDARD
TZOFFSETFROM:-0500
TZOFFSETTO:-0600
TZNAME:CST
DTSTART:20261101T070000
END:STANDARD
BEGIN:DAYLIGHT
TZOFFSETFROM:-0600
TZOFFSETTO:-0500
TZNAME:CDT
DTSTART:20270314T080000
END:DAYLIGHT
BEGIN:STANDARD
TZOFFSETFROM:-0500
TZOFFSETTO:-0600
TZNAME:CST
DTSTART:20271107T070000
END:STANDARD
END:VTIMEZONE
BEGIN:VEVENT
DTSTART;TZID=America/Chicago:20260419T093000
DTEND;TZID=America/Chicago:20260419T103000
DTSTAMP:20260422T070910
CREATED:20260410T173803Z
LAST-MODIFIED:20260410T173803Z
UID:10017263-1776591000-1776594600@oplutheran.com
SUMMARY:Worship Service
DESCRIPTION:Join us each week for the morning worship service. \n 
URL:https://oplutheran.com/event/worship-service-3-2-3/2026-04-19/
LOCATION:Main Sanctuary
CATEGORIES:OPLC Event,OPLC Service
ATTACH;FMTTYPE=image/jpeg:https://oplutheran.com/wp-content/uploads/2021/03/20230414_115205-1-scaled.jpg
END:VEVENT
BEGIN:VEVENT
DTSTART;TZID=America/Chicago:20260412T093000
DTEND;TZID=America/Chicago:20260412T103000
DTSTAMP:20260422T070910
CREATED:20260410T173803Z
LAST-MODIFIED:20260410T173803Z
UID:10017262-1775986200-1775989800@oplutheran.com
SUMMARY:Worship Service
DESCRIPTION:Join us each week for the morning worship service. \n 
URL:https://oplutheran.com/event/worship-service-3-2-3/2026-04-12/
LOCATION:Main Sanctuary
CATEGORIES:OPLC Event,OPLC Service
ATTACH;FMTTYPE=image/jpeg:https://oplutheran.com/wp-content/uploads/2021/03/20230414_115205-1-scaled.jpg
END:VEVENT
BEGIN:VEVENT
DTSTART;TZID=America/Chicago:20260408T190000
DTEND;TZID=America/Chicago:20260408T200000
DTSTAMP:20260422T070910
CREATED:20260318T184236Z
LAST-MODIFIED:20260318T184849Z
UID:10019902-1775674800-1775678400@oplutheran.com
SUMMARY:MidWeek Evening Service
DESCRIPTION:Join us each Wednesday evening throughout Lent for Holden Evening Prayer in Hollis Chapel.
URL:https://oplutheran.com/event/wednesday-evening-lenten-service-8-2-2-2-2/2026-04-08/
LOCATION:Main Sanctuary
CATEGORIES:Lent,Lenten Service,OPLC Event
ATTACH;FMTTYPE=image/webp:https://oplutheran.com/wp-content/uploads/2024/02/lent-a-season-for-biblical-meditation-ash-wednesday-lenten-season-american-bible-society-blog-new.webp
END:VEVENT
BEGIN:VEVENT
DTSTART;TZID=America/Chicago:20260405T093000
DTEND;TZID=America/Chicago:20260405T103000
DTSTAMP:20260422T070910
CREATED:20250418T182004Z
LAST-MODIFIED:20260220T204422Z
UID:10017261-1775381400-1775385000@oplutheran.com
SUMMARY:Worship Service
DESCRIPTION:Join us each week for the morning worship service. \n 
URL:https://oplutheran.com/event/worship-service-3-2/2026-04-05/
LOCATION:Main Sanctuary
CATEGORIES:OPLC Event,OPLC Service
ATTACH;FMTTYPE=image/jpeg:https://oplutheran.com/wp-content/uploads/2025/04/Lent-season-scaled.jpg
END:VEVENT
BEGIN:VEVENT
DTSTART;TZID=America/Chicago:20260403T190000
DTEND;TZID=America/Chicago:20260403T203000
DTSTAMP:20260422T070910
CREATED:20160214T214407Z
LAST-MODIFIED:20260318T185412Z
UID:10011353-1775242800-1775248200@oplutheran.com
SUMMARY:Good Friday Service
DESCRIPTION:Combined service with Salem Lutheran
URL:https://oplutheran.com/event/good-friday-service/
LOCATION:Main Sanctuary
CATEGORIES:OPLC Event,OPLC Service,Service
ATTACH;FMTTYPE=image/jpeg:https://oplutheran.com/wp-content/uploads/2016/02/339604757_1583307568804248_636648373124094922_n.jpg
END:VEVENT
BEGIN:VEVENT
DTSTART;TZID=America/Chicago:20260401T190000
DTEND;TZID=America/Chicago:20260401T200000
DTSTAMP:20260422T070910
CREATED:20260318T184236Z
LAST-MODIFIED:20260318T184849Z
UID:10019901-1775070000-1775073600@oplutheran.com
SUMMARY:MidWeek Evening Service
DESCRIPTION:Join us each Wednesday evening throughout Lent for Holden Evening Prayer in Hollis Chapel.
URL:https://oplutheran.com/event/wednesday-evening-lenten-service-8-2-2-2-2/2026-04-01/
LOCATION:Main Sanctuary
CATEGORIES:Lent,Lenten Service,OPLC Event
ATTACH;FMTTYPE=image/webp:https://oplutheran.com/wp-content/uploads/2024/02/lent-a-season-for-biblical-meditation-ash-wednesday-lenten-season-american-bible-society-blog-new.webp
END:VEVENT
BEGIN:VEVENT
DTSTART;TZID=America/Chicago:20260329T093000
DTEND;TZID=America/Chicago:20260329T103000
DTSTAMP:20260422T070910
CREATED:20250418T182004Z
LAST-MODIFIED:20260220T204422Z
UID:10017260-1774776600-1774780200@oplutheran.com
SUMMARY:Worship Service
DESCRIPTION:Join us each week for the morning worship service. \n 
URL:https://oplutheran.com/event/worship-service-3-2/2026-03-29/
LOCATION:Main Sanctuary
CATEGORIES:OPLC Event,OPLC Service
ATTACH;FMTTYPE=image/jpeg:https://oplutheran.com/wp-content/uploads/2025/04/Lent-season-scaled.jpg
END:VEVENT
BEGIN:VEVENT
DTSTART;TZID=America/Chicago:20260329T093000
DTEND;TZID=America/Chicago:20260329T103000
DTSTAMP:20260422T070910
CREATED:20210307T013704Z
LAST-MODIFIED:20260318T185141Z
UID:10013980-1774776600-1774780200@oplutheran.com
SUMMARY:Palm Sunday Worship Service
DESCRIPTION:Palm Processional
URL:https://oplutheran.com/event/worship-service-2021-03-28/
LOCATION:Main Sanctuary
CATEGORIES:OPLC Event
ATTACH;FMTTYPE=image/jpeg:https://oplutheran.com/wp-content/uploads/2017/04/shutterstock_388755967.jpg
END:VEVENT
BEGIN:VEVENT
DTSTART;TZID=America/Chicago:20260322T093000
DTEND;TZID=America/Chicago:20260322T103000
DTSTAMP:20260422T070910
CREATED:20250418T182004Z
LAST-MODIFIED:20260220T204422Z
UID:10017259-1774171800-1774175400@oplutheran.com
SUMMARY:Worship Service
DESCRIPTION:Join us each week for the morning worship service. \n 
URL:https://oplutheran.com/event/worship-service-3-2/2026-03-22/
LOCATION:Main Sanctuary
CATEGORIES:OPLC Event,OPLC Service
ATTACH;FMTTYPE=image/jpeg:https://oplutheran.com/wp-content/uploads/2025/04/Lent-season-scaled.jpg
END:VEVENT
BEGIN:VEVENT
DTSTART;TZID=America/Chicago:20260318T080000
DTEND;TZID=America/Chicago:20260318T170000
DTSTAMP:20260422T070910
CREATED:20260318T184236Z
LAST-MODIFIED:20260318T184849Z
UID:10019915-1773820800-1773853200@oplutheran.com
SUMMARY:MidWeek Evening Service
DESCRIPTION:Join us each Wednesday evening throughout Lent for Holden Evening Prayer in Hollis Chapel.
URL:https://oplutheran.com/event/wednesday-evening-lenten-service-8-2-2-2-2/2026-03-18/
LOCATION:Main Sanctuary
CATEGORIES:Lent,Lenten Service,OPLC Event
ATTACH;FMTTYPE=image/webp:https://oplutheran.com/wp-content/uploads/2024/02/lent-a-season-for-biblical-meditation-ash-wednesday-lenten-season-american-bible-society-blog-new.webp
END:VEVENT
BEGIN:VEVENT
DTSTART;TZID=America/Chicago:20260315T093000
DTEND;TZID=America/Chicago:20260315T103000
DTSTAMP:20260422T070910
CREATED:20250418T182004Z
LAST-MODIFIED:20260220T204422Z
UID:10017258-1773567000-1773570600@oplutheran.com
SUMMARY:Worship Service
DESCRIPTION:Join us each week for the morning worship service. \n 
URL:https://oplutheran.com/event/worship-service-3-2/2026-03-15/
LOCATION:Main Sanctuary
CATEGORIES:OPLC Event,OPLC Service
ATTACH;FMTTYPE=image/jpeg:https://oplutheran.com/wp-content/uploads/2025/04/Lent-season-scaled.jpg
END:VEVENT
BEGIN:VEVENT
DTSTART;TZID=America/Chicago:20260308T093000
DTEND;TZID=America/Chicago:20260308T103000
DTSTAMP:20260422T070910
CREATED:20250418T182004Z
LAST-MODIFIED:20260220T204422Z
UID:10017257-1772962200-1772965800@oplutheran.com
SUMMARY:Worship Service
DESCRIPTION:Join us each week for the morning worship service. \n 
URL:https://oplutheran.com/event/worship-service-3-2/2026-03-08/
LOCATION:Main Sanctuary
CATEGORIES:OPLC Event,OPLC Service
ATTACH;FMTTYPE=image/jpeg:https://oplutheran.com/wp-content/uploads/2025/04/Lent-season-scaled.jpg
END:VEVENT
BEGIN:VEVENT
DTSTART;TZID=America/Chicago:20260301T093000
DTEND;TZID=America/Chicago:20260301T103000
DTSTAMP:20260422T070910
CREATED:20250418T182004Z
LAST-MODIFIED:20260220T204422Z
UID:10017256-1772357400-1772361000@oplutheran.com
SUMMARY:Worship Service
DESCRIPTION:Join us each week for the morning worship service. \n 
URL:https://oplutheran.com/event/worship-service-3-2/2026-03-01/
LOCATION:Main Sanctuary
CATEGORIES:OPLC Event,OPLC Service
ATTACH;FMTTYPE=image/jpeg:https://oplutheran.com/wp-content/uploads/2025/04/Lent-season-scaled.jpg
END:VEVENT
BEGIN:VEVENT
DTSTART;TZID=America/Chicago:20260222T093000
DTEND;TZID=America/Chicago:20260222T103000
DTSTAMP:20260422T070910
CREATED:20250418T182004Z
LAST-MODIFIED:20260220T204422Z
UID:10017255-1771752600-1771756200@oplutheran.com
SUMMARY:Worship Service
DESCRIPTION:Join us each week for the morning worship service. \n 
URL:https://oplutheran.com/event/worship-service-3-2/2026-02-22/
LOCATION:Main Sanctuary
CATEGORIES:OPLC Event,OPLC Service
ATTACH;FMTTYPE=image/jpeg:https://oplutheran.com/wp-content/uploads/2025/04/Lent-season-scaled.jpg
END:VEVENT
BEGIN:VEVENT
DTSTART;TZID=America/Chicago:20260218T190000
DTEND;TZID=America/Chicago:20260218T200000
DTSTAMP:20260422T070910
CREATED:20200217T153934Z
LAST-MODIFIED:20260206T203137Z
UID:10013928-1771441200-1771444800@oplutheran.com
SUMMARY:Ash Wednesday Service
DESCRIPTION:Join us Wednesday for our combined Ash Wednesday Service with Salem Lutheran and Overland Park Presbyterian. There will be imposition of ashes and communion.
URL:https://oplutheran.com/event/ash-wednesday-service-5/
LOCATION:Main Sanctuary
CATEGORIES:Joint OPLC & OPP Event,OPLC Event
ATTACH;FMTTYPE=image/jpeg:https://oplutheran.com/wp-content/uploads/2017/02/shutterstock_555365878.jpg
END:VEVENT
BEGIN:VEVENT
DTSTART;TZID=America/Chicago:20260215T093000
DTEND;TZID=America/Chicago:20260215T103000
DTSTAMP:20260422T070910
CREATED:20250418T182004Z
LAST-MODIFIED:20260220T204422Z
UID:10017254-1771147800-1771151400@oplutheran.com
SUMMARY:Worship Service
DESCRIPTION:Join us each week for the morning worship service. \n 
URL:https://oplutheran.com/event/worship-service-3-2/2026-02-15/
LOCATION:Main Sanctuary
CATEGORIES:OPLC Event,OPLC Service
ATTACH;FMTTYPE=image/jpeg:https://oplutheran.com/wp-content/uploads/2025/04/Lent-season-scaled.jpg
END:VEVENT
BEGIN:VEVENT
DTSTART;TZID=America/Chicago:20260208T093000
DTEND;TZID=America/Chicago:20260208T103000
DTSTAMP:20260422T070910
CREATED:20250418T182004Z
LAST-MODIFIED:20260220T204422Z
UID:10017253-1770543000-1770546600@oplutheran.com
SUMMARY:Worship Service
DESCRIPTION:Join us each week for the morning worship service. \n 
URL:https://oplutheran.com/event/worship-service-3-2/2026-02-08/
LOCATION:Main Sanctuary
CATEGORIES:OPLC Event,OPLC Service
ATTACH;FMTTYPE=image/jpeg:https://oplutheran.com/wp-content/uploads/2025/04/Lent-season-scaled.jpg
END:VEVENT
BEGIN:VEVENT
DTSTART;TZID=America/Chicago:20260201T093000
DTEND;TZID=America/Chicago:20260201T103000
DTSTAMP:20260422T070910
CREATED:20250418T182004Z
LAST-MODIFIED:20260220T204422Z
UID:10017252-1769938200-1769941800@oplutheran.com
SUMMARY:Worship Service
DESCRIPTION:Join us each week for the morning worship service. \n 
URL:https://oplutheran.com/event/worship-service-3-2/2026-02-01/
LOCATION:Main Sanctuary
CATEGORIES:OPLC Event,OPLC Service
ATTACH;FMTTYPE=image/jpeg:https://oplutheran.com/wp-content/uploads/2025/04/Lent-season-scaled.jpg
END:VEVENT
BEGIN:VEVENT
DTSTART;TZID=America/Chicago:20260125T093000
DTEND;TZID=America/Chicago:20260125T103000
DTSTAMP:20260422T070910
CREATED:20250418T182004Z
LAST-MODIFIED:20260220T204422Z
UID:10017251-1769333400-1769337000@oplutheran.com
SUMMARY:Worship Service
DESCRIPTION:Join us each week for the morning worship service. \n 
URL:https://oplutheran.com/event/worship-service-3-2/2026-01-25/
LOCATION:Main Sanctuary
CATEGORIES:OPLC Event,OPLC Service
ATTACH;FMTTYPE=image/jpeg:https://oplutheran.com/wp-content/uploads/2025/04/Lent-season-scaled.jpg
END:VEVENT
BEGIN:VEVENT
DTSTART;TZID=America/Chicago:20260118T093000
DTEND;TZID=America/Chicago:20260118T103000
DTSTAMP:20260422T070910
CREATED:20250418T182004Z
LAST-MODIFIED:20260220T204422Z
UID:10017250-1768728600-1768732200@oplutheran.com
SUMMARY:Worship Service
DESCRIPTION:Join us each week for the morning worship service. \n 
URL:https://oplutheran.com/event/worship-service-3-2/2026-01-18/
LOCATION:Main Sanctuary
CATEGORIES:OPLC Event,OPLC Service
ATTACH;FMTTYPE=image/jpeg:https://oplutheran.com/wp-content/uploads/2025/04/Lent-season-scaled.jpg
END:VEVENT
BEGIN:VEVENT
DTSTART;TZID=America/Chicago:20260111T093000
DTEND;TZID=America/Chicago:20260111T103000
DTSTAMP:20260422T070910
CREATED:20250418T182004Z
LAST-MODIFIED:20260220T204422Z
UID:10017249-1768123800-1768127400@oplutheran.com
SUMMARY:Worship Service
DESCRIPTION:Join us each week for the morning worship service. \n 
URL:https://oplutheran.com/event/worship-service-3-2/2026-01-11/
LOCATION:Main Sanctuary
CATEGORIES:OPLC Event,OPLC Service
ATTACH;FMTTYPE=image/jpeg:https://oplutheran.com/wp-content/uploads/2025/04/Lent-season-scaled.jpg
END:VEVENT
BEGIN:VEVENT
DTSTART;TZID=America/Chicago:20260104T093000
DTEND;TZID=America/Chicago:20260104T103000
DTSTAMP:20260422T070910
CREATED:20250418T182004Z
LAST-MODIFIED:20260220T204422Z
UID:10017248-1767519000-1767522600@oplutheran.com
SUMMARY:Worship Service
DESCRIPTION:Join us each week for the morning worship service. \n 
URL:https://oplutheran.com/event/worship-service-3-2/2026-01-04/
LOCATION:Main Sanctuary
CATEGORIES:OPLC Event,OPLC Service
ATTACH;FMTTYPE=image/jpeg:https://oplutheran.com/wp-content/uploads/2025/04/Lent-season-scaled.jpg
END:VEVENT
BEGIN:VEVENT
DTSTART;TZID=America/Chicago:20251228T093000
DTEND;TZID=America/Chicago:20251228T103000
DTSTAMP:20260422T070910
CREATED:20250418T182004Z
LAST-MODIFIED:20260220T204422Z
UID:10017247-1766914200-1766917800@oplutheran.com
SUMMARY:Worship Service
DESCRIPTION:Join us each week for the morning worship service. \n 
URL:https://oplutheran.com/event/worship-service-3-2/2025-12-28/
LOCATION:Main Sanctuary
CATEGORIES:OPLC Event,OPLC Service
ATTACH;FMTTYPE=image/jpeg:https://oplutheran.com/wp-content/uploads/2025/04/Lent-season-scaled.jpg
END:VEVENT
BEGIN:VEVENT
DTSTART;TZID=America/Chicago:20251224T210000
DTEND;TZID=America/Chicago:20251224T220000
DTSTAMP:20260422T070910
CREATED:20210307T013704Z
LAST-MODIFIED:20251205T194128Z
UID:10013987-1766610000-1766613600@oplutheran.com
SUMMARY:Christmas Eve Candlelight Service
DESCRIPTION:
URL:https://oplutheran.com/event/worship-service-2023-03-05-2023-07-16/
LOCATION:Main Sanctuary
CATEGORIES:Christmas,OPLC Event,OPLC Service
ATTACH;FMTTYPE=image/jpeg:https://oplutheran.com/wp-content/uploads/2021/03/Christmas-Bulletin-Pic-2023--scaled.jpg
END:VEVENT
BEGIN:VEVENT
DTSTART;TZID=America/Chicago:20251221T093000
DTEND;TZID=America/Chicago:20251221T103000
DTSTAMP:20260422T070910
CREATED:20250418T182004Z
LAST-MODIFIED:20260220T204422Z
UID:10017246-1766309400-1766313000@oplutheran.com
SUMMARY:Worship Service
DESCRIPTION:Join us each week for the morning worship service. \n 
URL:https://oplutheran.com/event/worship-service-3-2/2025-12-21/
LOCATION:Main Sanctuary
CATEGORIES:OPLC Event,OPLC Service
ATTACH;FMTTYPE=image/jpeg:https://oplutheran.com/wp-content/uploads/2025/04/Lent-season-scaled.jpg
END:VEVENT
BEGIN:VEVENT
DTSTART;TZID=America/Chicago:20251214T093000
DTEND;TZID=America/Chicago:20251214T103000
DTSTAMP:20260422T070910
CREATED:20250418T182004Z
LAST-MODIFIED:20260220T204422Z
UID:10017245-1765704600-1765708200@oplutheran.com
SUMMARY:Worship Service
DESCRIPTION:Join us each week for the morning worship service. \n 
URL:https://oplutheran.com/event/worship-service-3-2/2025-12-14/
LOCATION:Main Sanctuary
CATEGORIES:OPLC Event,OPLC Service
ATTACH;FMTTYPE=image/jpeg:https://oplutheran.com/wp-content/uploads/2025/04/Lent-season-scaled.jpg
END:VEVENT
BEGIN:VEVENT
DTSTART;TZID=America/Chicago:20251207T093000
DTEND;TZID=America/Chicago:20251207T103000
DTSTAMP:20260422T070910
CREATED:20250418T182004Z
LAST-MODIFIED:20260220T204422Z
UID:10017244-1765099800-1765103400@oplutheran.com
SUMMARY:Worship Service
DESCRIPTION:Join us each week for the morning worship service. \n 
URL:https://oplutheran.com/event/worship-service-3-2/2025-12-07/
LOCATION:Main Sanctuary
CATEGORIES:OPLC Event,OPLC Service
ATTACH;FMTTYPE=image/jpeg:https://oplutheran.com/wp-content/uploads/2025/04/Lent-season-scaled.jpg
END:VEVENT
BEGIN:VEVENT
DTSTART;TZID=America/Chicago:20251130T093000
DTEND;TZID=America/Chicago:20251130T103000
DTSTAMP:20260422T070910
CREATED:20250418T182004Z
LAST-MODIFIED:20260220T204422Z
UID:10017243-1764495000-1764498600@oplutheran.com
SUMMARY:Worship Service
DESCRIPTION:Join us each week for the morning worship service. \n 
URL:https://oplutheran.com/event/worship-service-3-2/2025-11-30/
LOCATION:Main Sanctuary
CATEGORIES:OPLC Event,OPLC Service
ATTACH;FMTTYPE=image/jpeg:https://oplutheran.com/wp-content/uploads/2025/04/Lent-season-scaled.jpg
END:VEVENT
BEGIN:VEVENT
DTSTART;TZID=America/Chicago:20251123T093000
DTEND;TZID=America/Chicago:20251123T103000
DTSTAMP:20260422T070910
CREATED:20250418T182004Z
LAST-MODIFIED:20260220T204422Z
UID:10017242-1763890200-1763893800@oplutheran.com
SUMMARY:Worship Service
DESCRIPTION:Join us each week for the morning worship service. \n 
URL:https://oplutheran.com/event/worship-service-3-2/2025-11-23/
LOCATION:Main Sanctuary
CATEGORIES:OPLC Event,OPLC Service
ATTACH;FMTTYPE=image/jpeg:https://oplutheran.com/wp-content/uploads/2025/04/Lent-season-scaled.jpg
END:VEVENT
BEGIN:VEVENT
DTSTART;TZID=America/Chicago:20251116T093000
DTEND;TZID=America/Chicago:20251116T103000
DTSTAMP:20260422T070910
CREATED:20250418T182004Z
LAST-MODIFIED:20260220T204422Z
UID:10017241-1763285400-1763289000@oplutheran.com
SUMMARY:Worship Service
DESCRIPTION:Join us each week for the morning worship service. \n 
URL:https://oplutheran.com/event/worship-service-3-2/2025-11-16/
LOCATION:Main Sanctuary
CATEGORIES:OPLC Event,OPLC Service
ATTACH;FMTTYPE=image/jpeg:https://oplutheran.com/wp-content/uploads/2025/04/Lent-season-scaled.jpg
END:VEVENT
END:VCALENDAR