BEGIN:VCALENDAR
VERSION:2.0
PRODID:-//OP Lutheran Church | Overland Park, KS - ECPv6.15.20//NONSGML v1.0//EN
CALSCALE:GREGORIAN
METHOD:PUBLISH
X-WR-CALNAME:OP Lutheran Church | Overland Park, KS
X-ORIGINAL-URL:https://oplutheran.com
X-WR-CALDESC:Events for OP Lutheran Church | Overland Park, KS
REFRESH-INTERVAL;VALUE=DURATION:PT1H
X-Robots-Tag:noindex
X-PUBLISHED-TTL:PT1H
BEGIN:VTIMEZONE
TZID:America/Chicago
BEGIN:DAYLIGHT
TZOFFSETFROM:-0600
TZOFFSETTO:-0500
TZNAME:CDT
DTSTART:20250309T080000
END:DAYLIGHT
BEGIN:STANDARD
TZOFFSETFROM:-0500
TZOFFSETTO:-0600
TZNAME:CST
DTSTART:20251102T070000
END:STANDARD
BEGIN:DAYLIGHT
TZOFFSETFROM:-0600
TZOFFSETTO:-0500
TZNAME:CDT
DTSTART:20260308T080000
END:DAYLIGHT
BEGIN:STANDARD
TZOFFSETFROM:-0500
TZOFFSETTO:-0600
TZNAME:CST
DTSTART:20261101T070000
END:STANDARD
BEGIN:DAYLIGHT
TZOFFSETFROM:-0600
TZOFFSETTO:-0500
TZNAME:CDT
DTSTART:20270314T080000
END:DAYLIGHT
BEGIN:STANDARD
TZOFFSETFROM:-0500
TZOFFSETTO:-0600
TZNAME:CST
DTSTART:20271107T070000
END:STANDARD
BEGIN:DAYLIGHT
TZOFFSETFROM:-0600
TZOFFSETTO:-0500
TZNAME:CDT
DTSTART:20280312T080000
END:DAYLIGHT
BEGIN:STANDARD
TZOFFSETFROM:-0500
TZOFFSETTO:-0600
TZNAME:CST
DTSTART:20281105T070000
END:STANDARD
END:VTIMEZONE
BEGIN:VEVENT
DTSTART;TZID=America/Chicago:20260705T093000
DTEND;TZID=America/Chicago:20260705T103000
DTSTAMP:20260422T070845
CREATED:20260410T173803Z
LAST-MODIFIED:20260410T173803Z
UID:10017274-1783243800-1783247400@oplutheran.com
SUMMARY:Worship Service
DESCRIPTION:Join us each week for the morning worship service. \n 
URL:https://oplutheran.com/event/worship-service-3-2-3/2026-07-05/
LOCATION:Main Sanctuary
CATEGORIES:OPLC Event,OPLC Service
ATTACH;FMTTYPE=image/jpeg:https://oplutheran.com/wp-content/uploads/2021/03/20230414_115205-1-scaled.jpg
END:VEVENT
BEGIN:VEVENT
DTSTART;TZID=America/Chicago:20260712T093000
DTEND;TZID=America/Chicago:20260712T103000
DTSTAMP:20260422T070845
CREATED:20260410T173803Z
LAST-MODIFIED:20260410T173803Z
UID:10017275-1783848600-1783852200@oplutheran.com
SUMMARY:Worship Service
DESCRIPTION:Join us each week for the morning worship service. \n 
URL:https://oplutheran.com/event/worship-service-3-2-3/2026-07-12/
LOCATION:Main Sanctuary
CATEGORIES:OPLC Event,OPLC Service
ATTACH;FMTTYPE=image/jpeg:https://oplutheran.com/wp-content/uploads/2021/03/20230414_115205-1-scaled.jpg
END:VEVENT
BEGIN:VEVENT
DTSTART;TZID=America/Chicago:20260719T093000
DTEND;TZID=America/Chicago:20260719T103000
DTSTAMP:20260422T070845
CREATED:20260410T173803Z
LAST-MODIFIED:20260410T173803Z
UID:10017276-1784453400-1784457000@oplutheran.com
SUMMARY:Worship Service
DESCRIPTION:Join us each week for the morning worship service. \n 
URL:https://oplutheran.com/event/worship-service-3-2-3/2026-07-19/
LOCATION:Main Sanctuary
CATEGORIES:OPLC Event,OPLC Service
ATTACH;FMTTYPE=image/jpeg:https://oplutheran.com/wp-content/uploads/2021/03/20230414_115205-1-scaled.jpg
END:VEVENT
BEGIN:VEVENT
DTSTART;TZID=America/Chicago:20260726T093000
DTEND;TZID=America/Chicago:20260726T103000
DTSTAMP:20260422T070845
CREATED:20260410T173803Z
LAST-MODIFIED:20260410T173803Z
UID:10017277-1785058200-1785061800@oplutheran.com
SUMMARY:Worship Service
DESCRIPTION:Join us each week for the morning worship service. \n 
URL:https://oplutheran.com/event/worship-service-3-2-3/2026-07-26/
LOCATION:Main Sanctuary
CATEGORIES:OPLC Event,OPLC Service
ATTACH;FMTTYPE=image/jpeg:https://oplutheran.com/wp-content/uploads/2021/03/20230414_115205-1-scaled.jpg
END:VEVENT
BEGIN:VEVENT
DTSTART;TZID=America/Chicago:20260802T093000
DTEND;TZID=America/Chicago:20260802T103000
DTSTAMP:20260422T070845
CREATED:20260410T173803Z
LAST-MODIFIED:20260410T173803Z
UID:10017278-1785663000-1785666600@oplutheran.com
SUMMARY:Worship Service
DESCRIPTION:Join us each week for the morning worship service. \n 
URL:https://oplutheran.com/event/worship-service-3-2-3/2026-08-02/
LOCATION:Main Sanctuary
CATEGORIES:OPLC Event,OPLC Service
ATTACH;FMTTYPE=image/jpeg:https://oplutheran.com/wp-content/uploads/2021/03/20230414_115205-1-scaled.jpg
END:VEVENT
BEGIN:VEVENT
DTSTART;TZID=America/Chicago:20260809T093000
DTEND;TZID=America/Chicago:20260809T103000
DTSTAMP:20260422T070845
CREATED:20260410T173803Z
LAST-MODIFIED:20260410T173803Z
UID:10017279-1786267800-1786271400@oplutheran.com
SUMMARY:Worship Service
DESCRIPTION:Join us each week for the morning worship service. \n 
URL:https://oplutheran.com/event/worship-service-3-2-3/2026-08-09/
LOCATION:Main Sanctuary
CATEGORIES:OPLC Event,OPLC Service
ATTACH;FMTTYPE=image/jpeg:https://oplutheran.com/wp-content/uploads/2021/03/20230414_115205-1-scaled.jpg
END:VEVENT
BEGIN:VEVENT
DTSTART;TZID=America/Chicago:20260816T093000
DTEND;TZID=America/Chicago:20260816T103000
DTSTAMP:20260422T070845
CREATED:20260410T173803Z
LAST-MODIFIED:20260410T173803Z
UID:10017280-1786872600-1786876200@oplutheran.com
SUMMARY:Worship Service
DESCRIPTION:Join us each week for the morning worship service. \n 
URL:https://oplutheran.com/event/worship-service-3-2-3/2026-08-16/
LOCATION:Main Sanctuary
CATEGORIES:OPLC Event,OPLC Service
ATTACH;FMTTYPE=image/jpeg:https://oplutheran.com/wp-content/uploads/2021/03/20230414_115205-1-scaled.jpg
END:VEVENT
BEGIN:VEVENT
DTSTART;TZID=America/Chicago:20260823T093000
DTEND;TZID=America/Chicago:20260823T103000
DTSTAMP:20260422T070845
CREATED:20260410T173803Z
LAST-MODIFIED:20260410T173803Z
UID:10017281-1787477400-1787481000@oplutheran.com
SUMMARY:Worship Service
DESCRIPTION:Join us each week for the morning worship service. \n 
URL:https://oplutheran.com/event/worship-service-3-2-3/2026-08-23/
LOCATION:Main Sanctuary
CATEGORIES:OPLC Event,OPLC Service
ATTACH;FMTTYPE=image/jpeg:https://oplutheran.com/wp-content/uploads/2021/03/20230414_115205-1-scaled.jpg
END:VEVENT
BEGIN:VEVENT
DTSTART;TZID=America/Chicago:20260830T093000
DTEND;TZID=America/Chicago:20260830T103000
DTSTAMP:20260422T070845
CREATED:20260410T173803Z
LAST-MODIFIED:20260410T173803Z
UID:10017282-1788082200-1788085800@oplutheran.com
SUMMARY:Worship Service
DESCRIPTION:Join us each week for the morning worship service. \n 
URL:https://oplutheran.com/event/worship-service-3-2-3/2026-08-30/
LOCATION:Main Sanctuary
CATEGORIES:OPLC Event,OPLC Service
ATTACH;FMTTYPE=image/jpeg:https://oplutheran.com/wp-content/uploads/2021/03/20230414_115205-1-scaled.jpg
END:VEVENT
BEGIN:VEVENT
DTSTART;TZID=America/Chicago:20260906T093000
DTEND;TZID=America/Chicago:20260906T103000
DTSTAMP:20260422T070845
CREATED:20260410T173803Z
LAST-MODIFIED:20260410T173803Z
UID:10017283-1788687000-1788690600@oplutheran.com
SUMMARY:Worship Service
DESCRIPTION:Join us each week for the morning worship service. \n 
URL:https://oplutheran.com/event/worship-service-3-2-3/2026-09-06/
LOCATION:Main Sanctuary
CATEGORIES:OPLC Event,OPLC Service
ATTACH;FMTTYPE=image/jpeg:https://oplutheran.com/wp-content/uploads/2021/03/20230414_115205-1-scaled.jpg
END:VEVENT
BEGIN:VEVENT
DTSTART;TZID=America/Chicago:20260913T093000
DTEND;TZID=America/Chicago:20260913T103000
DTSTAMP:20260422T070845
CREATED:20260410T173803Z
LAST-MODIFIED:20260410T173803Z
UID:10017284-1789291800-1789295400@oplutheran.com
SUMMARY:Worship Service
DESCRIPTION:Join us each week for the morning worship service. \n 
URL:https://oplutheran.com/event/worship-service-3-2-3/2026-09-13/
LOCATION:Main Sanctuary
CATEGORIES:OPLC Event,OPLC Service
ATTACH;FMTTYPE=image/jpeg:https://oplutheran.com/wp-content/uploads/2021/03/20230414_115205-1-scaled.jpg
END:VEVENT
BEGIN:VEVENT
DTSTART;TZID=America/Chicago:20260920T093000
DTEND;TZID=America/Chicago:20260920T103000
DTSTAMP:20260422T070845
CREATED:20260410T173803Z
LAST-MODIFIED:20260410T173803Z
UID:10017285-1789896600-1789900200@oplutheran.com
SUMMARY:Worship Service
DESCRIPTION:Join us each week for the morning worship service. \n 
URL:https://oplutheran.com/event/worship-service-3-2-3/2026-09-20/
LOCATION:Main Sanctuary
CATEGORIES:OPLC Event,OPLC Service
ATTACH;FMTTYPE=image/jpeg:https://oplutheran.com/wp-content/uploads/2021/03/20230414_115205-1-scaled.jpg
END:VEVENT
BEGIN:VEVENT
DTSTART;TZID=America/Chicago:20260927T093000
DTEND;TZID=America/Chicago:20260927T103000
DTSTAMP:20260422T070845
CREATED:20260410T173803Z
LAST-MODIFIED:20260410T173803Z
UID:10017286-1790501400-1790505000@oplutheran.com
SUMMARY:Worship Service
DESCRIPTION:Join us each week for the morning worship service. \n 
URL:https://oplutheran.com/event/worship-service-3-2-3/2026-09-27/
LOCATION:Main Sanctuary
CATEGORIES:OPLC Event,OPLC Service
ATTACH;FMTTYPE=image/jpeg:https://oplutheran.com/wp-content/uploads/2021/03/20230414_115205-1-scaled.jpg
END:VEVENT
BEGIN:VEVENT
DTSTART;TZID=America/Chicago:20261004T093000
DTEND;TZID=America/Chicago:20261004T103000
DTSTAMP:20260422T070845
CREATED:20260410T173803Z
LAST-MODIFIED:20260410T173803Z
UID:10017287-1791106200-1791109800@oplutheran.com
SUMMARY:Worship Service
DESCRIPTION:Join us each week for the morning worship service. \n 
URL:https://oplutheran.com/event/worship-service-3-2-3/2026-10-04/
LOCATION:Main Sanctuary
CATEGORIES:OPLC Event,OPLC Service
ATTACH;FMTTYPE=image/jpeg:https://oplutheran.com/wp-content/uploads/2021/03/20230414_115205-1-scaled.jpg
END:VEVENT
BEGIN:VEVENT
DTSTART;TZID=America/Chicago:20261011T093000
DTEND;TZID=America/Chicago:20261011T103000
DTSTAMP:20260422T070845
CREATED:20260410T173803Z
LAST-MODIFIED:20260410T173803Z
UID:10017288-1791711000-1791714600@oplutheran.com
SUMMARY:Worship Service
DESCRIPTION:Join us each week for the morning worship service. \n 
URL:https://oplutheran.com/event/worship-service-3-2-3/2026-10-11/
LOCATION:Main Sanctuary
CATEGORIES:OPLC Event,OPLC Service
ATTACH;FMTTYPE=image/jpeg:https://oplutheran.com/wp-content/uploads/2021/03/20230414_115205-1-scaled.jpg
END:VEVENT
BEGIN:VEVENT
DTSTART;TZID=America/Chicago:20261018T093000
DTEND;TZID=America/Chicago:20261018T103000
DTSTAMP:20260422T070845
CREATED:20260410T173803Z
LAST-MODIFIED:20260410T173803Z
UID:10017289-1792315800-1792319400@oplutheran.com
SUMMARY:Worship Service
DESCRIPTION:Join us each week for the morning worship service. \n 
URL:https://oplutheran.com/event/worship-service-3-2-3/2026-10-18/
LOCATION:Main Sanctuary
CATEGORIES:OPLC Event,OPLC Service
ATTACH;FMTTYPE=image/jpeg:https://oplutheran.com/wp-content/uploads/2021/03/20230414_115205-1-scaled.jpg
END:VEVENT
BEGIN:VEVENT
DTSTART;TZID=America/Chicago:20261025T093000
DTEND;TZID=America/Chicago:20261025T103000
DTSTAMP:20260422T070845
CREATED:20260410T173803Z
LAST-MODIFIED:20260410T173803Z
UID:10017290-1792920600-1792924200@oplutheran.com
SUMMARY:Worship Service
DESCRIPTION:Join us each week for the morning worship service. \n 
URL:https://oplutheran.com/event/worship-service-3-2-3/2026-10-25/
LOCATION:Main Sanctuary
CATEGORIES:OPLC Event,OPLC Service
ATTACH;FMTTYPE=image/jpeg:https://oplutheran.com/wp-content/uploads/2021/03/20230414_115205-1-scaled.jpg
END:VEVENT
BEGIN:VEVENT
DTSTART;TZID=America/Chicago:20261101T093000
DTEND;TZID=America/Chicago:20261101T103000
DTSTAMP:20260422T070845
CREATED:20260410T173803Z
LAST-MODIFIED:20260410T173803Z
UID:10017291-1793525400-1793529000@oplutheran.com
SUMMARY:Worship Service
DESCRIPTION:Join us each week for the morning worship service. \n 
URL:https://oplutheran.com/event/worship-service-3-2-3/2026-11-01/
LOCATION:Main Sanctuary
CATEGORIES:OPLC Event,OPLC Service
ATTACH;FMTTYPE=image/jpeg:https://oplutheran.com/wp-content/uploads/2021/03/20230414_115205-1-scaled.jpg
END:VEVENT
BEGIN:VEVENT
DTSTART;TZID=America/Chicago:20261108T093000
DTEND;TZID=America/Chicago:20261108T103000
DTSTAMP:20260422T070845
CREATED:20260410T173803Z
LAST-MODIFIED:20260410T173803Z
UID:10017292-1794130200-1794133800@oplutheran.com
SUMMARY:Worship Service
DESCRIPTION:Join us each week for the morning worship service. \n 
URL:https://oplutheran.com/event/worship-service-3-2-3/2026-11-08/
LOCATION:Main Sanctuary
CATEGORIES:OPLC Event,OPLC Service
ATTACH;FMTTYPE=image/jpeg:https://oplutheran.com/wp-content/uploads/2021/03/20230414_115205-1-scaled.jpg
END:VEVENT
BEGIN:VEVENT
DTSTART;TZID=America/Chicago:20261115T093000
DTEND;TZID=America/Chicago:20261115T103000
DTSTAMP:20260422T070845
CREATED:20260410T173803Z
LAST-MODIFIED:20260410T173803Z
UID:10017293-1794735000-1794738600@oplutheran.com
SUMMARY:Worship Service
DESCRIPTION:Join us each week for the morning worship service. \n 
URL:https://oplutheran.com/event/worship-service-3-2-3/2026-11-15/
LOCATION:Main Sanctuary
CATEGORIES:OPLC Event,OPLC Service
ATTACH;FMTTYPE=image/jpeg:https://oplutheran.com/wp-content/uploads/2021/03/20230414_115205-1-scaled.jpg
END:VEVENT
BEGIN:VEVENT
DTSTART;TZID=America/Chicago:20261122T093000
DTEND;TZID=America/Chicago:20261122T103000
DTSTAMP:20260422T070845
CREATED:20260410T173803Z
LAST-MODIFIED:20260410T173803Z
UID:10017294-1795339800-1795343400@oplutheran.com
SUMMARY:Worship Service
DESCRIPTION:Join us each week for the morning worship service. \n 
URL:https://oplutheran.com/event/worship-service-3-2-3/2026-11-22/
LOCATION:Main Sanctuary
CATEGORIES:OPLC Event,OPLC Service
ATTACH;FMTTYPE=image/jpeg:https://oplutheran.com/wp-content/uploads/2021/03/20230414_115205-1-scaled.jpg
END:VEVENT
BEGIN:VEVENT
DTSTART;TZID=America/Chicago:20261129T093000
DTEND;TZID=America/Chicago:20261129T103000
DTSTAMP:20260422T070845
CREATED:20260410T173803Z
LAST-MODIFIED:20260410T173803Z
UID:10017295-1795944600-1795948200@oplutheran.com
SUMMARY:Worship Service
DESCRIPTION:Join us each week for the morning worship service. \n 
URL:https://oplutheran.com/event/worship-service-3-2-3/2026-11-29/
LOCATION:Main Sanctuary
CATEGORIES:OPLC Event,OPLC Service
ATTACH;FMTTYPE=image/jpeg:https://oplutheran.com/wp-content/uploads/2021/03/20230414_115205-1-scaled.jpg
END:VEVENT
BEGIN:VEVENT
DTSTART;TZID=America/Chicago:20261206T093000
DTEND;TZID=America/Chicago:20261206T103000
DTSTAMP:20260422T070845
CREATED:20260410T173803Z
LAST-MODIFIED:20260410T173803Z
UID:10017296-1796549400-1796553000@oplutheran.com
SUMMARY:Worship Service
DESCRIPTION:Join us each week for the morning worship service. \n 
URL:https://oplutheran.com/event/worship-service-3-2-3/2026-12-06/
LOCATION:Main Sanctuary
CATEGORIES:OPLC Event,OPLC Service
ATTACH;FMTTYPE=image/jpeg:https://oplutheran.com/wp-content/uploads/2021/03/20230414_115205-1-scaled.jpg
END:VEVENT
BEGIN:VEVENT
DTSTART;TZID=America/Chicago:20261213T093000
DTEND;TZID=America/Chicago:20261213T103000
DTSTAMP:20260422T070845
CREATED:20260410T173803Z
LAST-MODIFIED:20260410T173803Z
UID:10017297-1797154200-1797157800@oplutheran.com
SUMMARY:Worship Service
DESCRIPTION:Join us each week for the morning worship service. \n 
URL:https://oplutheran.com/event/worship-service-3-2-3/2026-12-13/
LOCATION:Main Sanctuary
CATEGORIES:OPLC Event,OPLC Service
ATTACH;FMTTYPE=image/jpeg:https://oplutheran.com/wp-content/uploads/2021/03/20230414_115205-1-scaled.jpg
END:VEVENT
BEGIN:VEVENT
DTSTART;TZID=America/Chicago:20261220T093000
DTEND;TZID=America/Chicago:20261220T103000
DTSTAMP:20260422T070845
CREATED:20260410T173803Z
LAST-MODIFIED:20260410T173803Z
UID:10017298-1797759000-1797762600@oplutheran.com
SUMMARY:Worship Service
DESCRIPTION:Join us each week for the morning worship service. \n 
URL:https://oplutheran.com/event/worship-service-3-2-3/2026-12-20/
LOCATION:Main Sanctuary
CATEGORIES:OPLC Event,OPLC Service
ATTACH;FMTTYPE=image/jpeg:https://oplutheran.com/wp-content/uploads/2021/03/20230414_115205-1-scaled.jpg
END:VEVENT
BEGIN:VEVENT
DTSTART;TZID=America/Chicago:20261227T093000
DTEND;TZID=America/Chicago:20261227T103000
DTSTAMP:20260422T070845
CREATED:20260410T173803Z
LAST-MODIFIED:20260410T173803Z
UID:10017299-1798363800-1798367400@oplutheran.com
SUMMARY:Worship Service
DESCRIPTION:Join us each week for the morning worship service. \n 
URL:https://oplutheran.com/event/worship-service-3-2-3/2026-12-27/
LOCATION:Main Sanctuary
CATEGORIES:OPLC Event,OPLC Service
ATTACH;FMTTYPE=image/jpeg:https://oplutheran.com/wp-content/uploads/2021/03/20230414_115205-1-scaled.jpg
END:VEVENT
BEGIN:VEVENT
DTSTART;TZID=America/Chicago:20270103T093000
DTEND;TZID=America/Chicago:20270103T103000
DTSTAMP:20260422T070845
CREATED:20260410T173803Z
LAST-MODIFIED:20260410T173803Z
UID:10017300-1798968600-1798972200@oplutheran.com
SUMMARY:Worship Service
DESCRIPTION:Join us each week for the morning worship service. \n 
URL:https://oplutheran.com/event/worship-service-3-2-3/2027-01-03/
LOCATION:Main Sanctuary
CATEGORIES:OPLC Event,OPLC Service
ATTACH;FMTTYPE=image/jpeg:https://oplutheran.com/wp-content/uploads/2021/03/20230414_115205-1-scaled.jpg
END:VEVENT
BEGIN:VEVENT
DTSTART;TZID=America/Chicago:20270110T093000
DTEND;TZID=America/Chicago:20270110T103000
DTSTAMP:20260422T070845
CREATED:20260410T173803Z
LAST-MODIFIED:20260410T173803Z
UID:10017301-1799573400-1799577000@oplutheran.com
SUMMARY:Worship Service
DESCRIPTION:Join us each week for the morning worship service. \n 
URL:https://oplutheran.com/event/worship-service-3-2-3/2027-01-10/
LOCATION:Main Sanctuary
CATEGORIES:OPLC Event,OPLC Service
ATTACH;FMTTYPE=image/jpeg:https://oplutheran.com/wp-content/uploads/2021/03/20230414_115205-1-scaled.jpg
END:VEVENT
BEGIN:VEVENT
DTSTART;TZID=America/Chicago:20270117T093000
DTEND;TZID=America/Chicago:20270117T103000
DTSTAMP:20260422T070845
CREATED:20260410T173803Z
LAST-MODIFIED:20260410T173803Z
UID:10017302-1800178200-1800181800@oplutheran.com
SUMMARY:Worship Service
DESCRIPTION:Join us each week for the morning worship service. \n 
URL:https://oplutheran.com/event/worship-service-3-2-3/2027-01-17/
LOCATION:Main Sanctuary
CATEGORIES:OPLC Event,OPLC Service
ATTACH;FMTTYPE=image/jpeg:https://oplutheran.com/wp-content/uploads/2021/03/20230414_115205-1-scaled.jpg
END:VEVENT
BEGIN:VEVENT
DTSTART;TZID=America/Chicago:20270124T093000
DTEND;TZID=America/Chicago:20270124T103000
DTSTAMP:20260422T070845
CREATED:20260410T173803Z
LAST-MODIFIED:20260410T173803Z
UID:10017303-1800783000-1800786600@oplutheran.com
SUMMARY:Worship Service
DESCRIPTION:Join us each week for the morning worship service. \n 
URL:https://oplutheran.com/event/worship-service-3-2-3/2027-01-24/
LOCATION:Main Sanctuary
CATEGORIES:OPLC Event,OPLC Service
ATTACH;FMTTYPE=image/jpeg:https://oplutheran.com/wp-content/uploads/2021/03/20230414_115205-1-scaled.jpg
END:VEVENT
END:VCALENDAR