BEGIN:VCALENDAR
VERSION:2.0
PRODID:-//OP Lutheran Church | Overland Park, KS - ECPv6.15.20//NONSGML v1.0//EN
CALSCALE:GREGORIAN
METHOD:PUBLISH
X-ORIGINAL-URL:https://oplutheran.com
X-WR-CALDESC:Events for OP Lutheran Church | Overland Park, KS
REFRESH-INTERVAL;VALUE=DURATION:PT1H
X-Robots-Tag:noindex
X-PUBLISHED-TTL:PT1H
BEGIN:VTIMEZONE
TZID:America/Chicago
BEGIN:DAYLIGHT
TZOFFSETFROM:-0600
TZOFFSETTO:-0500
TZNAME:CDT
DTSTART:20290311T080000
END:DAYLIGHT
BEGIN:STANDARD
TZOFFSETFROM:-0500
TZOFFSETTO:-0600
TZNAME:CST
DTSTART:20291104T070000
END:STANDARD
BEGIN:DAYLIGHT
TZOFFSETFROM:-0600
TZOFFSETTO:-0500
TZNAME:CDT
DTSTART:20300310T080000
END:DAYLIGHT
BEGIN:STANDARD
TZOFFSETFROM:-0500
TZOFFSETTO:-0600
TZNAME:CST
DTSTART:20301103T070000
END:STANDARD
BEGIN:DAYLIGHT
TZOFFSETFROM:-0600
TZOFFSETTO:-0500
TZNAME:CDT
DTSTART:20310309T080000
END:DAYLIGHT
BEGIN:STANDARD
TZOFFSETFROM:-0500
TZOFFSETTO:-0600
TZNAME:CST
DTSTART:20311102T070000
END:STANDARD
BEGIN:DAYLIGHT
TZOFFSETFROM:-0600
TZOFFSETTO:-0500
TZNAME:CDT
DTSTART:20320314T080000
END:DAYLIGHT
BEGIN:STANDARD
TZOFFSETFROM:-0500
TZOFFSETTO:-0600
TZNAME:CST
DTSTART:20321107T070000
END:STANDARD
END:VTIMEZONE
BEGIN:VEVENT
DTSTART;TZID=America/Chicago:20301201T093000
DTEND;TZID=America/Chicago:20301201T103000
DTSTAMP:20260423T214502
CREATED:20260410T173803Z
LAST-MODIFIED:20260410T173803Z
UID:10019614-1922347800-1922351400@oplutheran.com
SUMMARY:Worship Service
DESCRIPTION:Join us each week for the morning worship service. \n 
URL:https://oplutheran.com/event/worship-service-3-2-3/2030-12-01/
LOCATION:Main Sanctuary
CATEGORIES:OPLC Event,OPLC Service
ATTACH;FMTTYPE=image/jpeg:https://oplutheran.com/wp-content/uploads/2021/03/20230414_115205-1-scaled.jpg
END:VEVENT
BEGIN:VEVENT
DTSTART;TZID=America/Chicago:20301208T093000
DTEND;TZID=America/Chicago:20301208T103000
DTSTAMP:20260423T214502
CREATED:20260410T173803Z
LAST-MODIFIED:20260410T173803Z
UID:10019615-1922952600-1922956200@oplutheran.com
SUMMARY:Worship Service
DESCRIPTION:Join us each week for the morning worship service. \n 
URL:https://oplutheran.com/event/worship-service-3-2-3/2030-12-08/
LOCATION:Main Sanctuary
CATEGORIES:OPLC Event,OPLC Service
ATTACH;FMTTYPE=image/jpeg:https://oplutheran.com/wp-content/uploads/2021/03/20230414_115205-1-scaled.jpg
END:VEVENT
BEGIN:VEVENT
DTSTART;TZID=America/Chicago:20301215T093000
DTEND;TZID=America/Chicago:20301215T103000
DTSTAMP:20260423T214502
CREATED:20260410T173803Z
LAST-MODIFIED:20260410T173803Z
UID:10019616-1923557400-1923561000@oplutheran.com
SUMMARY:Worship Service
DESCRIPTION:Join us each week for the morning worship service. \n 
URL:https://oplutheran.com/event/worship-service-3-2-3/2030-12-15/
LOCATION:Main Sanctuary
CATEGORIES:OPLC Event,OPLC Service
ATTACH;FMTTYPE=image/jpeg:https://oplutheran.com/wp-content/uploads/2021/03/20230414_115205-1-scaled.jpg
END:VEVENT
BEGIN:VEVENT
DTSTART;TZID=America/Chicago:20301222T093000
DTEND;TZID=America/Chicago:20301222T103000
DTSTAMP:20260423T214502
CREATED:20260410T173803Z
LAST-MODIFIED:20260410T173803Z
UID:10019617-1924162200-1924165800@oplutheran.com
SUMMARY:Worship Service
DESCRIPTION:Join us each week for the morning worship service. \n 
URL:https://oplutheran.com/event/worship-service-3-2-3/2030-12-22/
LOCATION:Main Sanctuary
CATEGORIES:OPLC Event,OPLC Service
ATTACH;FMTTYPE=image/jpeg:https://oplutheran.com/wp-content/uploads/2021/03/20230414_115205-1-scaled.jpg
END:VEVENT
BEGIN:VEVENT
DTSTART;TZID=America/Chicago:20301229T093000
DTEND;TZID=America/Chicago:20301229T103000
DTSTAMP:20260423T214502
CREATED:20260410T173803Z
LAST-MODIFIED:20260410T173803Z
UID:10019618-1924767000-1924770600@oplutheran.com
SUMMARY:Worship Service
DESCRIPTION:Join us each week for the morning worship service. \n 
URL:https://oplutheran.com/event/worship-service-3-2-3/2030-12-29/
LOCATION:Main Sanctuary
CATEGORIES:OPLC Event,OPLC Service
ATTACH;FMTTYPE=image/jpeg:https://oplutheran.com/wp-content/uploads/2021/03/20230414_115205-1-scaled.jpg
END:VEVENT
BEGIN:VEVENT
DTSTART;TZID=America/Chicago:20310105T093000
DTEND;TZID=America/Chicago:20310105T103000
DTSTAMP:20260423T214502
CREATED:20260410T173803Z
LAST-MODIFIED:20260410T173803Z
UID:10019619-1925371800-1925375400@oplutheran.com
SUMMARY:Worship Service
DESCRIPTION:Join us each week for the morning worship service. \n 
URL:https://oplutheran.com/event/worship-service-3-2-3/2031-01-05/
LOCATION:Main Sanctuary
CATEGORIES:OPLC Event,OPLC Service
ATTACH;FMTTYPE=image/jpeg:https://oplutheran.com/wp-content/uploads/2021/03/20230414_115205-1-scaled.jpg
END:VEVENT
BEGIN:VEVENT
DTSTART;TZID=America/Chicago:20310112T093000
DTEND;TZID=America/Chicago:20310112T103000
DTSTAMP:20260423T214502
CREATED:20260410T173803Z
LAST-MODIFIED:20260410T173803Z
UID:10019620-1925976600-1925980200@oplutheran.com
SUMMARY:Worship Service
DESCRIPTION:Join us each week for the morning worship service. \n 
URL:https://oplutheran.com/event/worship-service-3-2-3/2031-01-12/
LOCATION:Main Sanctuary
CATEGORIES:OPLC Event,OPLC Service
ATTACH;FMTTYPE=image/jpeg:https://oplutheran.com/wp-content/uploads/2021/03/20230414_115205-1-scaled.jpg
END:VEVENT
BEGIN:VEVENT
DTSTART;TZID=America/Chicago:20310119T093000
DTEND;TZID=America/Chicago:20310119T103000
DTSTAMP:20260423T214502
CREATED:20260410T173803Z
LAST-MODIFIED:20260410T173803Z
UID:10019621-1926581400-1926585000@oplutheran.com
SUMMARY:Worship Service
DESCRIPTION:Join us each week for the morning worship service. \n 
URL:https://oplutheran.com/event/worship-service-3-2-3/2031-01-19/
LOCATION:Main Sanctuary
CATEGORIES:OPLC Event,OPLC Service
ATTACH;FMTTYPE=image/jpeg:https://oplutheran.com/wp-content/uploads/2021/03/20230414_115205-1-scaled.jpg
END:VEVENT
BEGIN:VEVENT
DTSTART;TZID=America/Chicago:20310126T093000
DTEND;TZID=America/Chicago:20310126T103000
DTSTAMP:20260423T214502
CREATED:20260410T173803Z
LAST-MODIFIED:20260410T173803Z
UID:10019622-1927186200-1927189800@oplutheran.com
SUMMARY:Worship Service
DESCRIPTION:Join us each week for the morning worship service. \n 
URL:https://oplutheran.com/event/worship-service-3-2-3/2031-01-26/
LOCATION:Main Sanctuary
CATEGORIES:OPLC Event,OPLC Service
ATTACH;FMTTYPE=image/jpeg:https://oplutheran.com/wp-content/uploads/2021/03/20230414_115205-1-scaled.jpg
END:VEVENT
BEGIN:VEVENT
DTSTART;TZID=America/Chicago:20310202T093000
DTEND;TZID=America/Chicago:20310202T103000
DTSTAMP:20260423T214502
CREATED:20260410T173803Z
LAST-MODIFIED:20260410T173803Z
UID:10019623-1927791000-1927794600@oplutheran.com
SUMMARY:Worship Service
DESCRIPTION:Join us each week for the morning worship service. \n 
URL:https://oplutheran.com/event/worship-service-3-2-3/2031-02-02/
LOCATION:Main Sanctuary
CATEGORIES:OPLC Event,OPLC Service
ATTACH;FMTTYPE=image/jpeg:https://oplutheran.com/wp-content/uploads/2021/03/20230414_115205-1-scaled.jpg
END:VEVENT
BEGIN:VEVENT
DTSTART;TZID=America/Chicago:20310209T093000
DTEND;TZID=America/Chicago:20310209T103000
DTSTAMP:20260423T214502
CREATED:20260410T173803Z
LAST-MODIFIED:20260410T173803Z
UID:10019624-1928395800-1928399400@oplutheran.com
SUMMARY:Worship Service
DESCRIPTION:Join us each week for the morning worship service. \n 
URL:https://oplutheran.com/event/worship-service-3-2-3/2031-02-09/
LOCATION:Main Sanctuary
CATEGORIES:OPLC Event,OPLC Service
ATTACH;FMTTYPE=image/jpeg:https://oplutheran.com/wp-content/uploads/2021/03/20230414_115205-1-scaled.jpg
END:VEVENT
BEGIN:VEVENT
DTSTART;TZID=America/Chicago:20310216T093000
DTEND;TZID=America/Chicago:20310216T103000
DTSTAMP:20260423T214502
CREATED:20260410T173803Z
LAST-MODIFIED:20260410T173803Z
UID:10019625-1929000600-1929004200@oplutheran.com
SUMMARY:Worship Service
DESCRIPTION:Join us each week for the morning worship service. \n 
URL:https://oplutheran.com/event/worship-service-3-2-3/2031-02-16/
LOCATION:Main Sanctuary
CATEGORIES:OPLC Event,OPLC Service
ATTACH;FMTTYPE=image/jpeg:https://oplutheran.com/wp-content/uploads/2021/03/20230414_115205-1-scaled.jpg
END:VEVENT
BEGIN:VEVENT
DTSTART;TZID=America/Chicago:20310223T093000
DTEND;TZID=America/Chicago:20310223T103000
DTSTAMP:20260423T214502
CREATED:20260410T173803Z
LAST-MODIFIED:20260410T173803Z
UID:10020178-1929605400-1929609000@oplutheran.com
SUMMARY:Worship Service
DESCRIPTION:Join us each week for the morning worship service. \n 
URL:https://oplutheran.com/event/worship-service-3-2-3/2031-02-23/
LOCATION:Main Sanctuary
CATEGORIES:OPLC Event,OPLC Service
ATTACH;FMTTYPE=image/jpeg:https://oplutheran.com/wp-content/uploads/2021/03/20230414_115205-1-scaled.jpg
END:VEVENT
BEGIN:VEVENT
DTSTART;TZID=America/Chicago:20310302T093000
DTEND;TZID=America/Chicago:20310302T103000
DTSTAMP:20260423T214502
CREATED:20260410T173803Z
LAST-MODIFIED:20260410T173803Z
UID:10020179-1930210200-1930213800@oplutheran.com
SUMMARY:Worship Service
DESCRIPTION:Join us each week for the morning worship service. \n 
URL:https://oplutheran.com/event/worship-service-3-2-3/2031-03-02/
LOCATION:Main Sanctuary
CATEGORIES:OPLC Event,OPLC Service
ATTACH;FMTTYPE=image/jpeg:https://oplutheran.com/wp-content/uploads/2021/03/20230414_115205-1-scaled.jpg
END:VEVENT
BEGIN:VEVENT
DTSTART;TZID=America/Chicago:20310309T093000
DTEND;TZID=America/Chicago:20310309T103000
DTSTAMP:20260423T214502
CREATED:20260410T173803Z
LAST-MODIFIED:20260410T173803Z
UID:10020180-1930815000-1930818600@oplutheran.com
SUMMARY:Worship Service
DESCRIPTION:Join us each week for the morning worship service. \n 
URL:https://oplutheran.com/event/worship-service-3-2-3/2031-03-09/
LOCATION:Main Sanctuary
CATEGORIES:OPLC Event,OPLC Service
ATTACH;FMTTYPE=image/jpeg:https://oplutheran.com/wp-content/uploads/2021/03/20230414_115205-1-scaled.jpg
END:VEVENT
BEGIN:VEVENT
DTSTART;TZID=America/Chicago:20310316T093000
DTEND;TZID=America/Chicago:20310316T103000
DTSTAMP:20260423T214502
CREATED:20260410T173803Z
LAST-MODIFIED:20260410T173803Z
UID:10020181-1931419800-1931423400@oplutheran.com
SUMMARY:Worship Service
DESCRIPTION:Join us each week for the morning worship service. \n 
URL:https://oplutheran.com/event/worship-service-3-2-3/2031-03-16/
LOCATION:Main Sanctuary
CATEGORIES:OPLC Event,OPLC Service
ATTACH;FMTTYPE=image/jpeg:https://oplutheran.com/wp-content/uploads/2021/03/20230414_115205-1-scaled.jpg
END:VEVENT
BEGIN:VEVENT
DTSTART;TZID=America/Chicago:20310323T093000
DTEND;TZID=America/Chicago:20310323T103000
DTSTAMP:20260423T214502
CREATED:20260410T173803Z
LAST-MODIFIED:20260410T173803Z
UID:10020182-1932024600-1932028200@oplutheran.com
SUMMARY:Worship Service
DESCRIPTION:Join us each week for the morning worship service. \n 
URL:https://oplutheran.com/event/worship-service-3-2-3/2031-03-23/
LOCATION:Main Sanctuary
CATEGORIES:OPLC Event,OPLC Service
ATTACH;FMTTYPE=image/jpeg:https://oplutheran.com/wp-content/uploads/2021/03/20230414_115205-1-scaled.jpg
END:VEVENT
BEGIN:VEVENT
DTSTART;TZID=America/Chicago:20310330T093000
DTEND;TZID=America/Chicago:20310330T103000
DTSTAMP:20260423T214502
CREATED:20260410T173803Z
LAST-MODIFIED:20260410T173803Z
UID:10020183-1932629400-1932633000@oplutheran.com
SUMMARY:Worship Service
DESCRIPTION:Join us each week for the morning worship service. \n 
URL:https://oplutheran.com/event/worship-service-3-2-3/2031-03-30/
LOCATION:Main Sanctuary
CATEGORIES:OPLC Event,OPLC Service
ATTACH;FMTTYPE=image/jpeg:https://oplutheran.com/wp-content/uploads/2021/03/20230414_115205-1-scaled.jpg
END:VEVENT
BEGIN:VEVENT
DTSTART;TZID=America/Chicago:20310406T093000
DTEND;TZID=America/Chicago:20310406T103000
DTSTAMP:20260423T214502
CREATED:20260410T173803Z
LAST-MODIFIED:20260410T173803Z
UID:10020184-1933234200-1933237800@oplutheran.com
SUMMARY:Worship Service
DESCRIPTION:Join us each week for the morning worship service. \n 
URL:https://oplutheran.com/event/worship-service-3-2-3/2031-04-06/
LOCATION:Main Sanctuary
CATEGORIES:OPLC Event,OPLC Service
ATTACH;FMTTYPE=image/jpeg:https://oplutheran.com/wp-content/uploads/2021/03/20230414_115205-1-scaled.jpg
END:VEVENT
END:VCALENDAR