BEGIN:VCALENDAR
VERSION:2.0
PRODID:-//OP Lutheran Church | Overland Park, KS - ECPv6.15.20//NONSGML v1.0//EN
CALSCALE:GREGORIAN
METHOD:PUBLISH
X-WR-CALNAME:OP Lutheran Church | Overland Park, KS
X-ORIGINAL-URL:https://oplutheran.com
X-WR-CALDESC:Events for OP Lutheran Church | Overland Park, KS
REFRESH-INTERVAL;VALUE=DURATION:PT1H
X-Robots-Tag:noindex
X-PUBLISHED-TTL:PT1H
BEGIN:VTIMEZONE
TZID:America/Chicago
BEGIN:DAYLIGHT
TZOFFSETFROM:-0600
TZOFFSETTO:-0500
TZNAME:CDT
DTSTART:20240310T080000
END:DAYLIGHT
BEGIN:STANDARD
TZOFFSETFROM:-0500
TZOFFSETTO:-0600
TZNAME:CST
DTSTART:20241103T070000
END:STANDARD
BEGIN:DAYLIGHT
TZOFFSETFROM:-0600
TZOFFSETTO:-0500
TZNAME:CDT
DTSTART:20250309T080000
END:DAYLIGHT
BEGIN:STANDARD
TZOFFSETFROM:-0500
TZOFFSETTO:-0600
TZNAME:CST
DTSTART:20251102T070000
END:STANDARD
BEGIN:DAYLIGHT
TZOFFSETFROM:-0600
TZOFFSETTO:-0500
TZNAME:CDT
DTSTART:20260308T080000
END:DAYLIGHT
BEGIN:STANDARD
TZOFFSETFROM:-0500
TZOFFSETTO:-0600
TZNAME:CST
DTSTART:20261101T070000
END:STANDARD
END:VTIMEZONE
BEGIN:VEVENT
DTSTART;TZID=America/Chicago:20251109T093000
DTEND;TZID=America/Chicago:20251109T103000
DTSTAMP:20260422T123108
CREATED:20250418T182004Z
LAST-MODIFIED:20260220T204422Z
UID:10017240-1762680600-1762684200@oplutheran.com
SUMMARY:Worship Service
DESCRIPTION:Join us each week for the morning worship service. \n 
URL:https://oplutheran.com/event/worship-service-3-2/2025-11-09/
LOCATION:Main Sanctuary
CATEGORIES:OPLC Event,OPLC Service
ATTACH;FMTTYPE=image/jpeg:https://oplutheran.com/wp-content/uploads/2025/04/Lent-season-scaled.jpg
END:VEVENT
BEGIN:VEVENT
DTSTART;TZID=America/Chicago:20251102T093000
DTEND;TZID=America/Chicago:20251102T103000
DTSTAMP:20260422T123108
CREATED:20250418T182004Z
LAST-MODIFIED:20260220T204422Z
UID:10017239-1762075800-1762079400@oplutheran.com
SUMMARY:Worship Service
DESCRIPTION:Join us each week for the morning worship service. \n 
URL:https://oplutheran.com/event/worship-service-3-2/2025-11-02/
LOCATION:Main Sanctuary
CATEGORIES:OPLC Event,OPLC Service
ATTACH;FMTTYPE=image/jpeg:https://oplutheran.com/wp-content/uploads/2025/04/Lent-season-scaled.jpg
END:VEVENT
BEGIN:VEVENT
DTSTART;TZID=America/Chicago:20251026T093000
DTEND;TZID=America/Chicago:20251026T103000
DTSTAMP:20260422T123108
CREATED:20250418T182004Z
LAST-MODIFIED:20260220T204422Z
UID:10017238-1761471000-1761474600@oplutheran.com
SUMMARY:Worship Service
DESCRIPTION:Join us each week for the morning worship service. \n 
URL:https://oplutheran.com/event/worship-service-3-2/2025-10-26/
LOCATION:Main Sanctuary
CATEGORIES:OPLC Event,OPLC Service
ATTACH;FMTTYPE=image/jpeg:https://oplutheran.com/wp-content/uploads/2025/04/Lent-season-scaled.jpg
END:VEVENT
BEGIN:VEVENT
DTSTART;TZID=America/Chicago:20251019T093000
DTEND;TZID=America/Chicago:20251019T103000
DTSTAMP:20260422T123108
CREATED:20250418T182004Z
LAST-MODIFIED:20260220T204422Z
UID:10017237-1760866200-1760869800@oplutheran.com
SUMMARY:Worship Service
DESCRIPTION:Join us each week for the morning worship service. \n 
URL:https://oplutheran.com/event/worship-service-3-2/2025-10-19/
LOCATION:Main Sanctuary
CATEGORIES:OPLC Event,OPLC Service
ATTACH;FMTTYPE=image/jpeg:https://oplutheran.com/wp-content/uploads/2025/04/Lent-season-scaled.jpg
END:VEVENT
BEGIN:VEVENT
DTSTART;TZID=America/Chicago:20251012T093000
DTEND;TZID=America/Chicago:20251012T103000
DTSTAMP:20260422T123108
CREATED:20250418T182004Z
LAST-MODIFIED:20260220T204422Z
UID:10017236-1760261400-1760265000@oplutheran.com
SUMMARY:Worship Service
DESCRIPTION:Join us each week for the morning worship service. \n 
URL:https://oplutheran.com/event/worship-service-3-2/2025-10-12/
LOCATION:Main Sanctuary
CATEGORIES:OPLC Event,OPLC Service
ATTACH;FMTTYPE=image/jpeg:https://oplutheran.com/wp-content/uploads/2025/04/Lent-season-scaled.jpg
END:VEVENT
BEGIN:VEVENT
DTSTART;TZID=America/Chicago:20251005T093000
DTEND;TZID=America/Chicago:20251005T103000
DTSTAMP:20260422T123108
CREATED:20250418T182004Z
LAST-MODIFIED:20260220T204422Z
UID:10017235-1759656600-1759660200@oplutheran.com
SUMMARY:Worship Service
DESCRIPTION:Join us each week for the morning worship service. \n 
URL:https://oplutheran.com/event/worship-service-3-2/2025-10-05/
LOCATION:Main Sanctuary
CATEGORIES:OPLC Event,OPLC Service
ATTACH;FMTTYPE=image/jpeg:https://oplutheran.com/wp-content/uploads/2025/04/Lent-season-scaled.jpg
END:VEVENT
BEGIN:VEVENT
DTSTART;TZID=America/Chicago:20250928T093000
DTEND;TZID=America/Chicago:20250928T103000
DTSTAMP:20260422T123108
CREATED:20250418T182004Z
LAST-MODIFIED:20260220T204422Z
UID:10017234-1759051800-1759055400@oplutheran.com
SUMMARY:Worship Service
DESCRIPTION:Join us each week for the morning worship service. \n 
URL:https://oplutheran.com/event/worship-service-3-2/2025-09-28/
LOCATION:Main Sanctuary
CATEGORIES:OPLC Event,OPLC Service
ATTACH;FMTTYPE=image/jpeg:https://oplutheran.com/wp-content/uploads/2025/04/Lent-season-scaled.jpg
END:VEVENT
BEGIN:VEVENT
DTSTART;TZID=America/Chicago:20250921T093000
DTEND;TZID=America/Chicago:20250921T103000
DTSTAMP:20260422T123108
CREATED:20250418T182004Z
LAST-MODIFIED:20260220T204422Z
UID:10017233-1758447000-1758450600@oplutheran.com
SUMMARY:Worship Service
DESCRIPTION:Join us each week for the morning worship service. \n 
URL:https://oplutheran.com/event/worship-service-3-2/2025-09-21/
LOCATION:Main Sanctuary
CATEGORIES:OPLC Event,OPLC Service
ATTACH;FMTTYPE=image/jpeg:https://oplutheran.com/wp-content/uploads/2025/04/Lent-season-scaled.jpg
END:VEVENT
BEGIN:VEVENT
DTSTART;TZID=America/Chicago:20250914T093000
DTEND;TZID=America/Chicago:20250914T103000
DTSTAMP:20260422T123108
CREATED:20250418T182004Z
LAST-MODIFIED:20260220T204422Z
UID:10017232-1757842200-1757845800@oplutheran.com
SUMMARY:Worship Service
DESCRIPTION:Join us each week for the morning worship service. \n 
URL:https://oplutheran.com/event/worship-service-3-2/2025-09-14/
LOCATION:Main Sanctuary
CATEGORIES:OPLC Event,OPLC Service
ATTACH;FMTTYPE=image/jpeg:https://oplutheran.com/wp-content/uploads/2025/04/Lent-season-scaled.jpg
END:VEVENT
BEGIN:VEVENT
DTSTART;TZID=America/Chicago:20250907T093000
DTEND;TZID=America/Chicago:20250907T103000
DTSTAMP:20260422T123108
CREATED:20250418T182004Z
LAST-MODIFIED:20260220T204422Z
UID:10017231-1757237400-1757241000@oplutheran.com
SUMMARY:Worship Service
DESCRIPTION:Join us each week for the morning worship service. \n 
URL:https://oplutheran.com/event/worship-service-3-2/2025-09-07/
LOCATION:Main Sanctuary
CATEGORIES:OPLC Event,OPLC Service
ATTACH;FMTTYPE=image/jpeg:https://oplutheran.com/wp-content/uploads/2025/04/Lent-season-scaled.jpg
END:VEVENT
BEGIN:VEVENT
DTSTART;TZID=America/Chicago:20250831T093000
DTEND;TZID=America/Chicago:20250831T103000
DTSTAMP:20260422T123108
CREATED:20250418T182004Z
LAST-MODIFIED:20260220T204422Z
UID:10017230-1756632600-1756636200@oplutheran.com
SUMMARY:Worship Service
DESCRIPTION:Join us each week for the morning worship service. \n 
URL:https://oplutheran.com/event/worship-service-3-2/2025-08-31/
LOCATION:Main Sanctuary
CATEGORIES:OPLC Event,OPLC Service
ATTACH;FMTTYPE=image/jpeg:https://oplutheran.com/wp-content/uploads/2025/04/Lent-season-scaled.jpg
END:VEVENT
BEGIN:VEVENT
DTSTART;TZID=America/Chicago:20250824T093000
DTEND;TZID=America/Chicago:20250824T103000
DTSTAMP:20260422T123108
CREATED:20250418T182004Z
LAST-MODIFIED:20260220T204422Z
UID:10017229-1756027800-1756031400@oplutheran.com
SUMMARY:Worship Service
DESCRIPTION:Join us each week for the morning worship service. \n 
URL:https://oplutheran.com/event/worship-service-3-2/2025-08-24/
LOCATION:Main Sanctuary
CATEGORIES:OPLC Event,OPLC Service
ATTACH;FMTTYPE=image/jpeg:https://oplutheran.com/wp-content/uploads/2025/04/Lent-season-scaled.jpg
END:VEVENT
BEGIN:VEVENT
DTSTART;TZID=America/Chicago:20250817T093000
DTEND;TZID=America/Chicago:20250817T103000
DTSTAMP:20260422T123108
CREATED:20250418T182004Z
LAST-MODIFIED:20260220T204422Z
UID:10017228-1755423000-1755426600@oplutheran.com
SUMMARY:Worship Service
DESCRIPTION:Join us each week for the morning worship service. \n 
URL:https://oplutheran.com/event/worship-service-3-2/2025-08-17/
LOCATION:Main Sanctuary
CATEGORIES:OPLC Event,OPLC Service
ATTACH;FMTTYPE=image/jpeg:https://oplutheran.com/wp-content/uploads/2025/04/Lent-season-scaled.jpg
END:VEVENT
BEGIN:VEVENT
DTSTART;TZID=America/Chicago:20250810T093000
DTEND;TZID=America/Chicago:20250810T103000
DTSTAMP:20260422T123108
CREATED:20250418T182004Z
LAST-MODIFIED:20260220T204422Z
UID:10017227-1754818200-1754821800@oplutheran.com
SUMMARY:Worship Service
DESCRIPTION:Join us each week for the morning worship service. \n 
URL:https://oplutheran.com/event/worship-service-3-2/2025-08-10/
LOCATION:Main Sanctuary
CATEGORIES:OPLC Event,OPLC Service
ATTACH;FMTTYPE=image/jpeg:https://oplutheran.com/wp-content/uploads/2025/04/Lent-season-scaled.jpg
END:VEVENT
BEGIN:VEVENT
DTSTART;TZID=America/Chicago:20250803T093000
DTEND;TZID=America/Chicago:20250803T103000
DTSTAMP:20260422T123108
CREATED:20250418T182004Z
LAST-MODIFIED:20260220T204422Z
UID:10017226-1754213400-1754217000@oplutheran.com
SUMMARY:Worship Service
DESCRIPTION:Join us each week for the morning worship service. \n 
URL:https://oplutheran.com/event/worship-service-3-2/2025-08-03/
LOCATION:Main Sanctuary
CATEGORIES:OPLC Event,OPLC Service
ATTACH;FMTTYPE=image/jpeg:https://oplutheran.com/wp-content/uploads/2025/04/Lent-season-scaled.jpg
END:VEVENT
BEGIN:VEVENT
DTSTART;TZID=America/Chicago:20250727T093000
DTEND;TZID=America/Chicago:20250727T103000
DTSTAMP:20260422T123108
CREATED:20250418T182004Z
LAST-MODIFIED:20260220T204422Z
UID:10017225-1753608600-1753612200@oplutheran.com
SUMMARY:Worship Service
DESCRIPTION:Join us each week for the morning worship service. \n 
URL:https://oplutheran.com/event/worship-service-3-2/2025-07-27/
LOCATION:Main Sanctuary
CATEGORIES:OPLC Event,OPLC Service
ATTACH;FMTTYPE=image/jpeg:https://oplutheran.com/wp-content/uploads/2025/04/Lent-season-scaled.jpg
END:VEVENT
BEGIN:VEVENT
DTSTART;TZID=America/Chicago:20250720T093000
DTEND;TZID=America/Chicago:20250720T103000
DTSTAMP:20260422T123108
CREATED:20250418T182004Z
LAST-MODIFIED:20260220T204422Z
UID:10017224-1753003800-1753007400@oplutheran.com
SUMMARY:Worship Service
DESCRIPTION:Join us each week for the morning worship service. \n 
URL:https://oplutheran.com/event/worship-service-3-2/2025-07-20/
LOCATION:Main Sanctuary
CATEGORIES:OPLC Event,OPLC Service
ATTACH;FMTTYPE=image/jpeg:https://oplutheran.com/wp-content/uploads/2025/04/Lent-season-scaled.jpg
END:VEVENT
BEGIN:VEVENT
DTSTART;TZID=America/Chicago:20250713T093000
DTEND;TZID=America/Chicago:20250713T103000
DTSTAMP:20260422T123108
CREATED:20250418T182004Z
LAST-MODIFIED:20260220T204422Z
UID:10017223-1752399000-1752402600@oplutheran.com
SUMMARY:Worship Service
DESCRIPTION:Join us each week for the morning worship service. \n 
URL:https://oplutheran.com/event/worship-service-3-2/2025-07-13/
LOCATION:Main Sanctuary
CATEGORIES:OPLC Event,OPLC Service
ATTACH;FMTTYPE=image/jpeg:https://oplutheran.com/wp-content/uploads/2025/04/Lent-season-scaled.jpg
END:VEVENT
BEGIN:VEVENT
DTSTART;TZID=America/Chicago:20250706T093000
DTEND;TZID=America/Chicago:20250706T103000
DTSTAMP:20260422T123108
CREATED:20250418T182004Z
LAST-MODIFIED:20260220T204422Z
UID:10017222-1751794200-1751797800@oplutheran.com
SUMMARY:Worship Service
DESCRIPTION:Join us each week for the morning worship service. \n 
URL:https://oplutheran.com/event/worship-service-3-2/2025-07-06/
LOCATION:Main Sanctuary
CATEGORIES:OPLC Event,OPLC Service
ATTACH;FMTTYPE=image/jpeg:https://oplutheran.com/wp-content/uploads/2025/04/Lent-season-scaled.jpg
END:VEVENT
BEGIN:VEVENT
DTSTART;TZID=America/Chicago:20250629T093000
DTEND;TZID=America/Chicago:20250629T103000
DTSTAMP:20260422T123108
CREATED:20250625T184527Z
LAST-MODIFIED:20250625T184527Z
UID:10017221-1751189400-1751193000@oplutheran.com
SUMMARY:Worship Service
DESCRIPTION:Join us each week for the morning worship service. \n 
URL:https://oplutheran.com/event/worship-service-3-2-2/
LOCATION:Main Sanctuary
ATTACH;FMTTYPE=image/jpeg:https://oplutheran.com/wp-content/uploads/2023/04/20230414_115205-scaled.jpg
END:VEVENT
BEGIN:VEVENT
DTSTART;TZID=America/Chicago:20250622T093000
DTEND;TZID=America/Chicago:20250622T103000
DTSTAMP:20260422T123108
CREATED:20250418T182004Z
LAST-MODIFIED:20260220T204422Z
UID:10017220-1750584600-1750588200@oplutheran.com
SUMMARY:Worship Service
DESCRIPTION:Join us each week for the morning worship service. \n 
URL:https://oplutheran.com/event/worship-service-3-2/2025-06-22/
LOCATION:Main Sanctuary
CATEGORIES:OPLC Event,OPLC Service
ATTACH;FMTTYPE=image/jpeg:https://oplutheran.com/wp-content/uploads/2025/04/Lent-season-scaled.jpg
END:VEVENT
BEGIN:VEVENT
DTSTART;TZID=America/Chicago:20250615T093000
DTEND;TZID=America/Chicago:20250615T103000
DTSTAMP:20260422T123108
CREATED:20250418T182004Z
LAST-MODIFIED:20260220T204422Z
UID:10017219-1749979800-1749983400@oplutheran.com
SUMMARY:Worship Service
DESCRIPTION:Join us each week for the morning worship service. \n 
URL:https://oplutheran.com/event/worship-service-3-2/2025-06-15/
LOCATION:Main Sanctuary
CATEGORIES:OPLC Event,OPLC Service
ATTACH;FMTTYPE=image/jpeg:https://oplutheran.com/wp-content/uploads/2025/04/Lent-season-scaled.jpg
END:VEVENT
BEGIN:VEVENT
DTSTART;TZID=America/Chicago:20250608T093000
DTEND;TZID=America/Chicago:20250608T103000
DTSTAMP:20260422T123108
CREATED:20250418T182004Z
LAST-MODIFIED:20260220T204422Z
UID:10017218-1749375000-1749378600@oplutheran.com
SUMMARY:Worship Service
DESCRIPTION:Join us each week for the morning worship service. \n 
URL:https://oplutheran.com/event/worship-service-3-2/2025-06-08/
LOCATION:Main Sanctuary
CATEGORIES:OPLC Event,OPLC Service
ATTACH;FMTTYPE=image/jpeg:https://oplutheran.com/wp-content/uploads/2025/04/Lent-season-scaled.jpg
END:VEVENT
BEGIN:VEVENT
DTSTART;TZID=America/Chicago:20250601T093000
DTEND;TZID=America/Chicago:20250601T103000
DTSTAMP:20260422T123108
CREATED:20250418T182004Z
LAST-MODIFIED:20260220T204422Z
UID:10017217-1748770200-1748773800@oplutheran.com
SUMMARY:Worship Service
DESCRIPTION:Join us each week for the morning worship service. \n 
URL:https://oplutheran.com/event/worship-service-3-2/2025-06-01/
LOCATION:Main Sanctuary
CATEGORIES:OPLC Event,OPLC Service
ATTACH;FMTTYPE=image/jpeg:https://oplutheran.com/wp-content/uploads/2025/04/Lent-season-scaled.jpg
END:VEVENT
BEGIN:VEVENT
DTSTART;TZID=America/Chicago:20250525T093000
DTEND;TZID=America/Chicago:20250525T103000
DTSTAMP:20260422T123108
CREATED:20250418T182004Z
LAST-MODIFIED:20260220T204422Z
UID:10017216-1748165400-1748169000@oplutheran.com
SUMMARY:Worship Service
DESCRIPTION:Join us each week for the morning worship service. \n 
URL:https://oplutheran.com/event/worship-service-3-2/2025-05-25/
LOCATION:Main Sanctuary
CATEGORIES:OPLC Event,OPLC Service
ATTACH;FMTTYPE=image/jpeg:https://oplutheran.com/wp-content/uploads/2025/04/Lent-season-scaled.jpg
END:VEVENT
BEGIN:VEVENT
DTSTART;TZID=America/Chicago:20250518T093000
DTEND;TZID=America/Chicago:20250518T103000
DTSTAMP:20260422T123108
CREATED:20250418T182004Z
LAST-MODIFIED:20260220T204422Z
UID:10017215-1747560600-1747564200@oplutheran.com
SUMMARY:Worship Service
DESCRIPTION:Join us each week for the morning worship service. \n 
URL:https://oplutheran.com/event/worship-service-3-2/2025-05-18/
LOCATION:Main Sanctuary
CATEGORIES:OPLC Event,OPLC Service
ATTACH;FMTTYPE=image/jpeg:https://oplutheran.com/wp-content/uploads/2025/04/Lent-season-scaled.jpg
END:VEVENT
BEGIN:VEVENT
DTSTART;TZID=America/Chicago:20250511T093000
DTEND;TZID=America/Chicago:20250511T103000
DTSTAMP:20260422T123108
CREATED:20250418T182004Z
LAST-MODIFIED:20260220T204422Z
UID:10017214-1746955800-1746959400@oplutheran.com
SUMMARY:Worship Service
DESCRIPTION:Join us each week for the morning worship service. \n 
URL:https://oplutheran.com/event/worship-service-3-2/2025-05-11/
LOCATION:Main Sanctuary
CATEGORIES:OPLC Event,OPLC Service
ATTACH;FMTTYPE=image/jpeg:https://oplutheran.com/wp-content/uploads/2025/04/Lent-season-scaled.jpg
END:VEVENT
BEGIN:VEVENT
DTSTART;TZID=America/Chicago:20250504T093000
DTEND;TZID=America/Chicago:20250504T103000
DTSTAMP:20260422T123108
CREATED:20250418T182004Z
LAST-MODIFIED:20260220T204422Z
UID:10017213-1746351000-1746354600@oplutheran.com
SUMMARY:Worship Service
DESCRIPTION:Join us each week for the morning worship service. \n 
URL:https://oplutheran.com/event/worship-service-3-2/2025-05-04/
LOCATION:Main Sanctuary
CATEGORIES:OPLC Event,OPLC Service
ATTACH;FMTTYPE=image/jpeg:https://oplutheran.com/wp-content/uploads/2025/04/Lent-season-scaled.jpg
END:VEVENT
BEGIN:VEVENT
DTSTART;TZID=America/Chicago:20250427T093000
DTEND;TZID=America/Chicago:20250427T103000
DTSTAMP:20260422T123108
CREATED:20250418T182004Z
LAST-MODIFIED:20260220T204422Z
UID:10017211-1745746200-1745749800@oplutheran.com
SUMMARY:Worship Service
DESCRIPTION:Join us each week for the morning worship service. \n 
URL:https://oplutheran.com/event/worship-service-3-2/2025-04-27/
LOCATION:Main Sanctuary
CATEGORIES:OPLC Event,OPLC Service
ATTACH;FMTTYPE=image/jpeg:https://oplutheran.com/wp-content/uploads/2025/04/Lent-season-scaled.jpg
END:VEVENT
BEGIN:VEVENT
DTSTART;TZID=America/Chicago:20250420T093000
DTEND;TZID=America/Chicago:20250420T103000
DTSTAMP:20260422T123108
CREATED:20250418T181847Z
LAST-MODIFIED:20250418T181847Z
UID:10017998-1745141400-1745145000@oplutheran.com
SUMMARY:Easter Sunday Worship Service
DESCRIPTION:Join us for the Easter Sunday services: 8:00am and 9:30am. He is risen indeed!
URL:https://oplutheran.com/event/easter-sunday-worship-service-2/
LOCATION:Main Sanctuary
CATEGORIES:OPLC Event
ATTACH;FMTTYPE=image/png:https://oplutheran.com/wp-content/uploads/2016/03/Empty-Tomb.png
END:VEVENT
END:VCALENDAR