BEGIN:VCALENDAR
VERSION:2.0
PRODID:-//OP Lutheran Church | Overland Park, KS - ECPv6.15.20//NONSGML v1.0//EN
CALSCALE:GREGORIAN
METHOD:PUBLISH
X-WR-CALNAME:OP Lutheran Church | Overland Park, KS
X-ORIGINAL-URL:https://oplutheran.com
X-WR-CALDESC:Events for OP Lutheran Church | Overland Park, KS
REFRESH-INTERVAL;VALUE=DURATION:PT1H
X-Robots-Tag:noindex
X-PUBLISHED-TTL:PT1H
BEGIN:VTIMEZONE
TZID:America/Chicago
BEGIN:DAYLIGHT
TZOFFSETFROM:-0600
TZOFFSETTO:-0500
TZNAME:CDT
DTSTART:20250309T080000
END:DAYLIGHT
BEGIN:STANDARD
TZOFFSETFROM:-0500
TZOFFSETTO:-0600
TZNAME:CST
DTSTART:20251102T070000
END:STANDARD
BEGIN:DAYLIGHT
TZOFFSETFROM:-0600
TZOFFSETTO:-0500
TZNAME:CDT
DTSTART:20260308T080000
END:DAYLIGHT
BEGIN:STANDARD
TZOFFSETFROM:-0500
TZOFFSETTO:-0600
TZNAME:CST
DTSTART:20261101T070000
END:STANDARD
BEGIN:DAYLIGHT
TZOFFSETFROM:-0600
TZOFFSETTO:-0500
TZNAME:CDT
DTSTART:20270314T080000
END:DAYLIGHT
BEGIN:STANDARD
TZOFFSETFROM:-0500
TZOFFSETTO:-0600
TZNAME:CST
DTSTART:20271107T070000
END:STANDARD
BEGIN:DAYLIGHT
TZOFFSETFROM:-0600
TZOFFSETTO:-0500
TZNAME:CDT
DTSTART:20280312T080000
END:DAYLIGHT
BEGIN:STANDARD
TZOFFSETFROM:-0500
TZOFFSETTO:-0600
TZNAME:CST
DTSTART:20281105T070000
END:STANDARD
BEGIN:DAYLIGHT
TZOFFSETFROM:-0600
TZOFFSETTO:-0500
TZNAME:CDT
DTSTART:20290311T080000
END:DAYLIGHT
BEGIN:STANDARD
TZOFFSETFROM:-0500
TZOFFSETTO:-0600
TZNAME:CST
DTSTART:20291104T070000
END:STANDARD
END:VTIMEZONE
BEGIN:VEVENT
DTSTART;TZID=America/Chicago:20260506T190000
DTEND;TZID=America/Chicago:20260506T203000
DTSTAMP:20260422T034206
CREATED:20250103T195509Z
LAST-MODIFIED:20260227T170619Z
UID:10018620-1778094000-1778099400@oplutheran.com
SUMMARY:Women's Bible Study
DESCRIPTION:Join the Women of OPLC for fellowship. We are back to meeting the first Wednesday of each month.
URL:https://oplutheran.com/event/womens-bible-study-2-3-2-2/2026-05-06/
LOCATION:Parish Hall
CATEGORIES:Bible Study,OPLC Event
ATTACH;FMTTYPE=image/jpeg:https://oplutheran.com/wp-content/uploads/2023/09/bible-study.jpg
END:VEVENT
BEGIN:VEVENT
DTSTART;TZID=America/Chicago:20260603T190000
DTEND;TZID=America/Chicago:20260603T203000
DTSTAMP:20260422T034206
CREATED:20250103T195509Z
LAST-MODIFIED:20260227T170619Z
UID:10018621-1780513200-1780518600@oplutheran.com
SUMMARY:Women's Bible Study
DESCRIPTION:Join the Women of OPLC for fellowship. We are back to meeting the first Wednesday of each month.
URL:https://oplutheran.com/event/womens-bible-study-2-3-2-2/2026-06-03/
LOCATION:Parish Hall
CATEGORIES:Bible Study,OPLC Event
ATTACH;FMTTYPE=image/jpeg:https://oplutheran.com/wp-content/uploads/2023/09/bible-study.jpg
END:VEVENT
BEGIN:VEVENT
DTSTART;TZID=America/Chicago:20260701T190000
DTEND;TZID=America/Chicago:20260701T203000
DTSTAMP:20260422T034206
CREATED:20250103T195509Z
LAST-MODIFIED:20260227T170619Z
UID:10018622-1782932400-1782937800@oplutheran.com
SUMMARY:Women's Bible Study
DESCRIPTION:Join the Women of OPLC for fellowship. We are back to meeting the first Wednesday of each month.
URL:https://oplutheran.com/event/womens-bible-study-2-3-2-2/2026-07-01/
LOCATION:Parish Hall
CATEGORIES:Bible Study,OPLC Event
ATTACH;FMTTYPE=image/jpeg:https://oplutheran.com/wp-content/uploads/2023/09/bible-study.jpg
END:VEVENT
BEGIN:VEVENT
DTSTART;TZID=America/Chicago:20260805T190000
DTEND;TZID=America/Chicago:20260805T203000
DTSTAMP:20260422T034206
CREATED:20250103T195509Z
LAST-MODIFIED:20260227T170619Z
UID:10018623-1785956400-1785961800@oplutheran.com
SUMMARY:Women's Bible Study
DESCRIPTION:Join the Women of OPLC for fellowship. We are back to meeting the first Wednesday of each month.
URL:https://oplutheran.com/event/womens-bible-study-2-3-2-2/2026-08-05/
LOCATION:Parish Hall
CATEGORIES:Bible Study,OPLC Event
ATTACH;FMTTYPE=image/jpeg:https://oplutheran.com/wp-content/uploads/2023/09/bible-study.jpg
END:VEVENT
BEGIN:VEVENT
DTSTART;TZID=America/Chicago:20260902T190000
DTEND;TZID=America/Chicago:20260902T203000
DTSTAMP:20260422T034206
CREATED:20250103T195509Z
LAST-MODIFIED:20260227T170619Z
UID:10018624-1788375600-1788381000@oplutheran.com
SUMMARY:Women's Bible Study
DESCRIPTION:Join the Women of OPLC for fellowship. We are back to meeting the first Wednesday of each month.
URL:https://oplutheran.com/event/womens-bible-study-2-3-2-2/2026-09-02/
LOCATION:Parish Hall
CATEGORIES:Bible Study,OPLC Event
ATTACH;FMTTYPE=image/jpeg:https://oplutheran.com/wp-content/uploads/2023/09/bible-study.jpg
END:VEVENT
BEGIN:VEVENT
DTSTART;TZID=America/Chicago:20261007T190000
DTEND;TZID=America/Chicago:20261007T203000
DTSTAMP:20260422T034206
CREATED:20250103T195509Z
LAST-MODIFIED:20260227T170619Z
UID:10018625-1791399600-1791405000@oplutheran.com
SUMMARY:Women's Bible Study
DESCRIPTION:Join the Women of OPLC for fellowship. We are back to meeting the first Wednesday of each month.
URL:https://oplutheran.com/event/womens-bible-study-2-3-2-2/2026-10-07/
LOCATION:Parish Hall
CATEGORIES:Bible Study,OPLC Event
ATTACH;FMTTYPE=image/jpeg:https://oplutheran.com/wp-content/uploads/2023/09/bible-study.jpg
END:VEVENT
BEGIN:VEVENT
DTSTART;TZID=America/Chicago:20261104T190000
DTEND;TZID=America/Chicago:20261104T203000
DTSTAMP:20260422T034206
CREATED:20250103T195509Z
LAST-MODIFIED:20260227T170619Z
UID:10018626-1793818800-1793824200@oplutheran.com
SUMMARY:Women's Bible Study
DESCRIPTION:Join the Women of OPLC for fellowship. We are back to meeting the first Wednesday of each month.
URL:https://oplutheran.com/event/womens-bible-study-2-3-2-2/2026-11-04/
LOCATION:Parish Hall
CATEGORIES:Bible Study,OPLC Event
ATTACH;FMTTYPE=image/jpeg:https://oplutheran.com/wp-content/uploads/2023/09/bible-study.jpg
END:VEVENT
BEGIN:VEVENT
DTSTART;TZID=America/Chicago:20261202T190000
DTEND;TZID=America/Chicago:20261202T203000
DTSTAMP:20260422T034206
CREATED:20250103T195509Z
LAST-MODIFIED:20260227T170619Z
UID:10018627-1796238000-1796243400@oplutheran.com
SUMMARY:Women's Bible Study
DESCRIPTION:Join the Women of OPLC for fellowship. We are back to meeting the first Wednesday of each month.
URL:https://oplutheran.com/event/womens-bible-study-2-3-2-2/2026-12-02/
LOCATION:Parish Hall
CATEGORIES:Bible Study,OPLC Event
ATTACH;FMTTYPE=image/jpeg:https://oplutheran.com/wp-content/uploads/2023/09/bible-study.jpg
END:VEVENT
BEGIN:VEVENT
DTSTART;TZID=America/Chicago:20270106T190000
DTEND;TZID=America/Chicago:20270106T203000
DTSTAMP:20260422T034206
CREATED:20250103T195509Z
LAST-MODIFIED:20260227T170619Z
UID:10018628-1799262000-1799267400@oplutheran.com
SUMMARY:Women's Bible Study
DESCRIPTION:Join the Women of OPLC for fellowship. We are back to meeting the first Wednesday of each month.
URL:https://oplutheran.com/event/womens-bible-study-2-3-2-2/2027-01-06/
LOCATION:Parish Hall
CATEGORIES:Bible Study,OPLC Event
ATTACH;FMTTYPE=image/jpeg:https://oplutheran.com/wp-content/uploads/2023/09/bible-study.jpg
END:VEVENT
BEGIN:VEVENT
DTSTART;TZID=America/Chicago:20270203T190000
DTEND;TZID=America/Chicago:20270203T203000
DTSTAMP:20260422T034206
CREATED:20250103T195509Z
LAST-MODIFIED:20260227T170619Z
UID:10018629-1801681200-1801686600@oplutheran.com
SUMMARY:Women's Bible Study
DESCRIPTION:Join the Women of OPLC for fellowship. We are back to meeting the first Wednesday of each month.
URL:https://oplutheran.com/event/womens-bible-study-2-3-2-2/2027-02-03/
LOCATION:Parish Hall
CATEGORIES:Bible Study,OPLC Event
ATTACH;FMTTYPE=image/jpeg:https://oplutheran.com/wp-content/uploads/2023/09/bible-study.jpg
END:VEVENT
BEGIN:VEVENT
DTSTART;TZID=America/Chicago:20270303T190000
DTEND;TZID=America/Chicago:20270303T203000
DTSTAMP:20260422T034206
CREATED:20250103T195509Z
LAST-MODIFIED:20260227T170619Z
UID:10018630-1804100400-1804105800@oplutheran.com
SUMMARY:Women's Bible Study
DESCRIPTION:Join the Women of OPLC for fellowship. We are back to meeting the first Wednesday of each month.
URL:https://oplutheran.com/event/womens-bible-study-2-3-2-2/2027-03-03/
LOCATION:Parish Hall
CATEGORIES:Bible Study,OPLC Event
ATTACH;FMTTYPE=image/jpeg:https://oplutheran.com/wp-content/uploads/2023/09/bible-study.jpg
END:VEVENT
BEGIN:VEVENT
DTSTART;TZID=America/Chicago:20270407T190000
DTEND;TZID=America/Chicago:20270407T203000
DTSTAMP:20260422T034206
CREATED:20250103T195509Z
LAST-MODIFIED:20260227T170619Z
UID:10018631-1807124400-1807129800@oplutheran.com
SUMMARY:Women's Bible Study
DESCRIPTION:Join the Women of OPLC for fellowship. We are back to meeting the first Wednesday of each month.
URL:https://oplutheran.com/event/womens-bible-study-2-3-2-2/2027-04-07/
LOCATION:Parish Hall
CATEGORIES:Bible Study,OPLC Event
ATTACH;FMTTYPE=image/jpeg:https://oplutheran.com/wp-content/uploads/2023/09/bible-study.jpg
END:VEVENT
BEGIN:VEVENT
DTSTART;TZID=America/Chicago:20270505T190000
DTEND;TZID=America/Chicago:20270505T203000
DTSTAMP:20260422T034206
CREATED:20250103T195509Z
LAST-MODIFIED:20260227T170619Z
UID:10018632-1809543600-1809549000@oplutheran.com
SUMMARY:Women's Bible Study
DESCRIPTION:Join the Women of OPLC for fellowship. We are back to meeting the first Wednesday of each month.
URL:https://oplutheran.com/event/womens-bible-study-2-3-2-2/2027-05-05/
LOCATION:Parish Hall
CATEGORIES:Bible Study,OPLC Event
ATTACH;FMTTYPE=image/jpeg:https://oplutheran.com/wp-content/uploads/2023/09/bible-study.jpg
END:VEVENT
BEGIN:VEVENT
DTSTART;TZID=America/Chicago:20270602T190000
DTEND;TZID=America/Chicago:20270602T203000
DTSTAMP:20260422T034207
CREATED:20250103T195509Z
LAST-MODIFIED:20260227T170619Z
UID:10018633-1811962800-1811968200@oplutheran.com
SUMMARY:Women's Bible Study
DESCRIPTION:Join the Women of OPLC for fellowship. We are back to meeting the first Wednesday of each month.
URL:https://oplutheran.com/event/womens-bible-study-2-3-2-2/2027-06-02/
LOCATION:Parish Hall
CATEGORIES:Bible Study,OPLC Event
ATTACH;FMTTYPE=image/jpeg:https://oplutheran.com/wp-content/uploads/2023/09/bible-study.jpg
END:VEVENT
BEGIN:VEVENT
DTSTART;TZID=America/Chicago:20270707T190000
DTEND;TZID=America/Chicago:20270707T203000
DTSTAMP:20260422T034207
CREATED:20250103T195509Z
LAST-MODIFIED:20260227T170619Z
UID:10018634-1814986800-1814992200@oplutheran.com
SUMMARY:Women's Bible Study
DESCRIPTION:Join the Women of OPLC for fellowship. We are back to meeting the first Wednesday of each month.
URL:https://oplutheran.com/event/womens-bible-study-2-3-2-2/2027-07-07/
LOCATION:Parish Hall
CATEGORIES:Bible Study,OPLC Event
ATTACH;FMTTYPE=image/jpeg:https://oplutheran.com/wp-content/uploads/2023/09/bible-study.jpg
END:VEVENT
BEGIN:VEVENT
DTSTART;TZID=America/Chicago:20270804T190000
DTEND;TZID=America/Chicago:20270804T203000
DTSTAMP:20260422T034207
CREATED:20250103T195509Z
LAST-MODIFIED:20260227T170619Z
UID:10018635-1817406000-1817411400@oplutheran.com
SUMMARY:Women's Bible Study
DESCRIPTION:Join the Women of OPLC for fellowship. We are back to meeting the first Wednesday of each month.
URL:https://oplutheran.com/event/womens-bible-study-2-3-2-2/2027-08-04/
LOCATION:Parish Hall
CATEGORIES:Bible Study,OPLC Event
ATTACH;FMTTYPE=image/jpeg:https://oplutheran.com/wp-content/uploads/2023/09/bible-study.jpg
END:VEVENT
BEGIN:VEVENT
DTSTART;TZID=America/Chicago:20270901T190000
DTEND;TZID=America/Chicago:20270901T203000
DTSTAMP:20260422T034207
CREATED:20250103T195509Z
LAST-MODIFIED:20260227T170619Z
UID:10018636-1819825200-1819830600@oplutheran.com
SUMMARY:Women's Bible Study
DESCRIPTION:Join the Women of OPLC for fellowship. We are back to meeting the first Wednesday of each month.
URL:https://oplutheran.com/event/womens-bible-study-2-3-2-2/2027-09-01/
LOCATION:Parish Hall
CATEGORIES:Bible Study,OPLC Event
ATTACH;FMTTYPE=image/jpeg:https://oplutheran.com/wp-content/uploads/2023/09/bible-study.jpg
END:VEVENT
BEGIN:VEVENT
DTSTART;TZID=America/Chicago:20271006T190000
DTEND;TZID=America/Chicago:20271006T203000
DTSTAMP:20260422T034207
CREATED:20250103T195509Z
LAST-MODIFIED:20260227T170619Z
UID:10018637-1822849200-1822854600@oplutheran.com
SUMMARY:Women's Bible Study
DESCRIPTION:Join the Women of OPLC for fellowship. We are back to meeting the first Wednesday of each month.
URL:https://oplutheran.com/event/womens-bible-study-2-3-2-2/2027-10-06/
LOCATION:Parish Hall
CATEGORIES:Bible Study,OPLC Event
ATTACH;FMTTYPE=image/jpeg:https://oplutheran.com/wp-content/uploads/2023/09/bible-study.jpg
END:VEVENT
BEGIN:VEVENT
DTSTART;TZID=America/Chicago:20271103T190000
DTEND;TZID=America/Chicago:20271103T203000
DTSTAMP:20260422T034207
CREATED:20250103T195509Z
LAST-MODIFIED:20260227T170619Z
UID:10018638-1825268400-1825273800@oplutheran.com
SUMMARY:Women's Bible Study
DESCRIPTION:Join the Women of OPLC for fellowship. We are back to meeting the first Wednesday of each month.
URL:https://oplutheran.com/event/womens-bible-study-2-3-2-2/2027-11-03/
LOCATION:Parish Hall
CATEGORIES:Bible Study,OPLC Event
ATTACH;FMTTYPE=image/jpeg:https://oplutheran.com/wp-content/uploads/2023/09/bible-study.jpg
END:VEVENT
BEGIN:VEVENT
DTSTART;TZID=America/Chicago:20271201T190000
DTEND;TZID=America/Chicago:20271201T203000
DTSTAMP:20260422T034207
CREATED:20250103T195509Z
LAST-MODIFIED:20260227T170619Z
UID:10018639-1827687600-1827693000@oplutheran.com
SUMMARY:Women's Bible Study
DESCRIPTION:Join the Women of OPLC for fellowship. We are back to meeting the first Wednesday of each month.
URL:https://oplutheran.com/event/womens-bible-study-2-3-2-2/2027-12-01/
LOCATION:Parish Hall
CATEGORIES:Bible Study,OPLC Event
ATTACH;FMTTYPE=image/jpeg:https://oplutheran.com/wp-content/uploads/2023/09/bible-study.jpg
END:VEVENT
BEGIN:VEVENT
DTSTART;TZID=America/Chicago:20280105T190000
DTEND;TZID=America/Chicago:20280105T203000
DTSTAMP:20260422T034207
CREATED:20250103T195509Z
LAST-MODIFIED:20260227T170619Z
UID:10018640-1830711600-1830717000@oplutheran.com
SUMMARY:Women's Bible Study
DESCRIPTION:Join the Women of OPLC for fellowship. We are back to meeting the first Wednesday of each month.
URL:https://oplutheran.com/event/womens-bible-study-2-3-2-2/2028-01-05/
LOCATION:Parish Hall
CATEGORIES:Bible Study,OPLC Event
ATTACH;FMTTYPE=image/jpeg:https://oplutheran.com/wp-content/uploads/2023/09/bible-study.jpg
END:VEVENT
BEGIN:VEVENT
DTSTART;TZID=America/Chicago:20280202T190000
DTEND;TZID=America/Chicago:20280202T203000
DTSTAMP:20260422T034207
CREATED:20250103T195509Z
LAST-MODIFIED:20260227T170619Z
UID:10018641-1833130800-1833136200@oplutheran.com
SUMMARY:Women's Bible Study
DESCRIPTION:Join the Women of OPLC for fellowship. We are back to meeting the first Wednesday of each month.
URL:https://oplutheran.com/event/womens-bible-study-2-3-2-2/2028-02-02/
LOCATION:Parish Hall
CATEGORIES:Bible Study,OPLC Event
ATTACH;FMTTYPE=image/jpeg:https://oplutheran.com/wp-content/uploads/2023/09/bible-study.jpg
END:VEVENT
BEGIN:VEVENT
DTSTART;TZID=America/Chicago:20280301T190000
DTEND;TZID=America/Chicago:20280301T203000
DTSTAMP:20260422T034207
CREATED:20250103T195509Z
LAST-MODIFIED:20260227T170619Z
UID:10018642-1835550000-1835555400@oplutheran.com
SUMMARY:Women's Bible Study
DESCRIPTION:Join the Women of OPLC for fellowship. We are back to meeting the first Wednesday of each month.
URL:https://oplutheran.com/event/womens-bible-study-2-3-2-2/2028-03-01/
LOCATION:Parish Hall
CATEGORIES:Bible Study,OPLC Event
ATTACH;FMTTYPE=image/jpeg:https://oplutheran.com/wp-content/uploads/2023/09/bible-study.jpg
END:VEVENT
BEGIN:VEVENT
DTSTART;TZID=America/Chicago:20280405T190000
DTEND;TZID=America/Chicago:20280405T203000
DTSTAMP:20260422T034207
CREATED:20250103T195509Z
LAST-MODIFIED:20260227T170619Z
UID:10018643-1838574000-1838579400@oplutheran.com
SUMMARY:Women's Bible Study
DESCRIPTION:Join the Women of OPLC for fellowship. We are back to meeting the first Wednesday of each month.
URL:https://oplutheran.com/event/womens-bible-study-2-3-2-2/2028-04-05/
LOCATION:Parish Hall
CATEGORIES:Bible Study,OPLC Event
ATTACH;FMTTYPE=image/jpeg:https://oplutheran.com/wp-content/uploads/2023/09/bible-study.jpg
END:VEVENT
BEGIN:VEVENT
DTSTART;TZID=America/Chicago:20280503T190000
DTEND;TZID=America/Chicago:20280503T203000
DTSTAMP:20260422T034207
CREATED:20250103T195509Z
LAST-MODIFIED:20260227T170619Z
UID:10018644-1840993200-1840998600@oplutheran.com
SUMMARY:Women's Bible Study
DESCRIPTION:Join the Women of OPLC for fellowship. We are back to meeting the first Wednesday of each month.
URL:https://oplutheran.com/event/womens-bible-study-2-3-2-2/2028-05-03/
LOCATION:Parish Hall
CATEGORIES:Bible Study,OPLC Event
ATTACH;FMTTYPE=image/jpeg:https://oplutheran.com/wp-content/uploads/2023/09/bible-study.jpg
END:VEVENT
BEGIN:VEVENT
DTSTART;TZID=America/Chicago:20280607T190000
DTEND;TZID=America/Chicago:20280607T203000
DTSTAMP:20260422T034207
CREATED:20250103T195509Z
LAST-MODIFIED:20260227T170619Z
UID:10018645-1844017200-1844022600@oplutheran.com
SUMMARY:Women's Bible Study
DESCRIPTION:Join the Women of OPLC for fellowship. We are back to meeting the first Wednesday of each month.
URL:https://oplutheran.com/event/womens-bible-study-2-3-2-2/2028-06-07/
LOCATION:Parish Hall
CATEGORIES:Bible Study,OPLC Event
ATTACH;FMTTYPE=image/jpeg:https://oplutheran.com/wp-content/uploads/2023/09/bible-study.jpg
END:VEVENT
BEGIN:VEVENT
DTSTART;TZID=America/Chicago:20280705T190000
DTEND;TZID=America/Chicago:20280705T203000
DTSTAMP:20260422T034207
CREATED:20250103T195509Z
LAST-MODIFIED:20260227T170619Z
UID:10018646-1846436400-1846441800@oplutheran.com
SUMMARY:Women's Bible Study
DESCRIPTION:Join the Women of OPLC for fellowship. We are back to meeting the first Wednesday of each month.
URL:https://oplutheran.com/event/womens-bible-study-2-3-2-2/2028-07-05/
LOCATION:Parish Hall
CATEGORIES:Bible Study,OPLC Event
ATTACH;FMTTYPE=image/jpeg:https://oplutheran.com/wp-content/uploads/2023/09/bible-study.jpg
END:VEVENT
BEGIN:VEVENT
DTSTART;TZID=America/Chicago:20280802T190000
DTEND;TZID=America/Chicago:20280802T203000
DTSTAMP:20260422T034207
CREATED:20250103T195509Z
LAST-MODIFIED:20260227T170619Z
UID:10018647-1848855600-1848861000@oplutheran.com
SUMMARY:Women's Bible Study
DESCRIPTION:Join the Women of OPLC for fellowship. We are back to meeting the first Wednesday of each month.
URL:https://oplutheran.com/event/womens-bible-study-2-3-2-2/2028-08-02/
LOCATION:Parish Hall
CATEGORIES:Bible Study,OPLC Event
ATTACH;FMTTYPE=image/jpeg:https://oplutheran.com/wp-content/uploads/2023/09/bible-study.jpg
END:VEVENT
BEGIN:VEVENT
DTSTART;TZID=America/Chicago:20280906T190000
DTEND;TZID=America/Chicago:20280906T203000
DTSTAMP:20260422T034207
CREATED:20250103T195509Z
LAST-MODIFIED:20260227T170619Z
UID:10018648-1851879600-1851885000@oplutheran.com
SUMMARY:Women's Bible Study
DESCRIPTION:Join the Women of OPLC for fellowship. We are back to meeting the first Wednesday of each month.
URL:https://oplutheran.com/event/womens-bible-study-2-3-2-2/2028-09-06/
LOCATION:Parish Hall
CATEGORIES:Bible Study,OPLC Event
ATTACH;FMTTYPE=image/jpeg:https://oplutheran.com/wp-content/uploads/2023/09/bible-study.jpg
END:VEVENT
BEGIN:VEVENT
DTSTART;TZID=America/Chicago:20281004T190000
DTEND;TZID=America/Chicago:20281004T203000
DTSTAMP:20260422T034207
CREATED:20250103T195509Z
LAST-MODIFIED:20260227T170619Z
UID:10018649-1854298800-1854304200@oplutheran.com
SUMMARY:Women's Bible Study
DESCRIPTION:Join the Women of OPLC for fellowship. We are back to meeting the first Wednesday of each month.
URL:https://oplutheran.com/event/womens-bible-study-2-3-2-2/2028-10-04/
LOCATION:Parish Hall
CATEGORIES:Bible Study,OPLC Event
ATTACH;FMTTYPE=image/jpeg:https://oplutheran.com/wp-content/uploads/2023/09/bible-study.jpg
END:VEVENT
END:VCALENDAR