BEGIN:VCALENDAR
VERSION:2.0
PRODID:-//OP Lutheran Church | Overland Park, KS - ECPv6.15.20//NONSGML v1.0//EN
CALSCALE:GREGORIAN
METHOD:PUBLISH
X-WR-CALNAME:OP Lutheran Church | Overland Park, KS
X-ORIGINAL-URL:https://oplutheran.com
X-WR-CALDESC:Events for OP Lutheran Church | Overland Park, KS
REFRESH-INTERVAL;VALUE=DURATION:PT1H
X-Robots-Tag:noindex
X-PUBLISHED-TTL:PT1H
BEGIN:VTIMEZONE
TZID:America/Chicago
BEGIN:DAYLIGHT
TZOFFSETFROM:-0600
TZOFFSETTO:-0500
TZNAME:CDT
DTSTART:20160313T080000
END:DAYLIGHT
BEGIN:STANDARD
TZOFFSETFROM:-0500
TZOFFSETTO:-0600
TZNAME:CST
DTSTART:20161106T070000
END:STANDARD
BEGIN:DAYLIGHT
TZOFFSETFROM:-0600
TZOFFSETTO:-0500
TZNAME:CDT
DTSTART:20170312T080000
END:DAYLIGHT
BEGIN:STANDARD
TZOFFSETFROM:-0500
TZOFFSETTO:-0600
TZNAME:CST
DTSTART:20171105T070000
END:STANDARD
BEGIN:DAYLIGHT
TZOFFSETFROM:-0600
TZOFFSETTO:-0500
TZNAME:CDT
DTSTART:20180311T080000
END:DAYLIGHT
BEGIN:STANDARD
TZOFFSETFROM:-0500
TZOFFSETTO:-0600
TZNAME:CST
DTSTART:20181104T070000
END:STANDARD
BEGIN:DAYLIGHT
TZOFFSETFROM:-0600
TZOFFSETTO:-0500
TZNAME:CDT
DTSTART:20190310T080000
END:DAYLIGHT
BEGIN:STANDARD
TZOFFSETFROM:-0500
TZOFFSETTO:-0600
TZNAME:CST
DTSTART:20191103T070000
END:STANDARD
BEGIN:DAYLIGHT
TZOFFSETFROM:-0600
TZOFFSETTO:-0500
TZNAME:CDT
DTSTART:20200308T080000
END:DAYLIGHT
BEGIN:STANDARD
TZOFFSETFROM:-0500
TZOFFSETTO:-0600
TZNAME:CST
DTSTART:20201101T070000
END:STANDARD
BEGIN:DAYLIGHT
TZOFFSETFROM:-0600
TZOFFSETTO:-0500
TZNAME:CDT
DTSTART:20210314T080000
END:DAYLIGHT
BEGIN:STANDARD
TZOFFSETFROM:-0500
TZOFFSETTO:-0600
TZNAME:CST
DTSTART:20211107T070000
END:STANDARD
BEGIN:DAYLIGHT
TZOFFSETFROM:-0600
TZOFFSETTO:-0500
TZNAME:CDT
DTSTART:20220313T080000
END:DAYLIGHT
BEGIN:STANDARD
TZOFFSETFROM:-0500
TZOFFSETTO:-0600
TZNAME:CST
DTSTART:20221106T070000
END:STANDARD
BEGIN:DAYLIGHT
TZOFFSETFROM:-0600
TZOFFSETTO:-0500
TZNAME:CDT
DTSTART:20230312T080000
END:DAYLIGHT
BEGIN:STANDARD
TZOFFSETFROM:-0500
TZOFFSETTO:-0600
TZNAME:CST
DTSTART:20231105T070000
END:STANDARD
BEGIN:DAYLIGHT
TZOFFSETFROM:-0600
TZOFFSETTO:-0500
TZNAME:CDT
DTSTART:20240310T080000
END:DAYLIGHT
BEGIN:STANDARD
TZOFFSETFROM:-0500
TZOFFSETTO:-0600
TZNAME:CST
DTSTART:20241103T070000
END:STANDARD
BEGIN:DAYLIGHT
TZOFFSETFROM:-0600
TZOFFSETTO:-0500
TZNAME:CDT
DTSTART:20250309T080000
END:DAYLIGHT
BEGIN:STANDARD
TZOFFSETFROM:-0500
TZOFFSETTO:-0600
TZNAME:CST
DTSTART:20251102T070000
END:STANDARD
END:VTIMEZONE
BEGIN:VEVENT
DTSTART;TZID=America/Chicago:20240918T180000
DTEND;TZID=America/Chicago:20240918T200000
DTSTAMP:20260422T085656
CREATED:20240830T181157Z
LAST-MODIFIED:20240830T181157Z
UID:10015965-1726682400-1726689600@oplutheran.com
SUMMARY:Screen Sanity -JCMH Connected Conversations
DESCRIPTION:Join us for a meaningful evening of connection and conversation! Discover why family meals matter for mental health and how they can foster deeper connections and conversations within your family. Additionally\, learn about healthy digital media habits and understand the effects of digital media on youth mental health. This event will equip your family with the knowledge and tools to navigate these important aspects of modern life. \nBenefits of the program\n•Promotes healthy decision-making skills\n•Encourages community involvement\n•Promotes resilience and coping strategies\n•Promotes family and peer connectedness\n•Increases knowledge and awareness\n•Promotes effective communication skills\n•Strengthens support networks \nDesigned for students of all ages and their parents\, the event kicks off with a complimentary shared meal\, followed by distinct interactive discussions. The night wraps up with parents and youth engaging in supportive dialogue\, applying insights from the session. Participants can also take home free resources to further refine the skills acquired during the event. Childcare will be provided for your convenience. \nSign Up Here: https://connect.jocogov.org/civicrm/event/info?id=1748&reset=1
URL:https://oplutheran.com/event/screen-sanity-jcmh-connected-conversations/
LOCATION:Parish Hall
CATEGORIES:OPLC Event,Outreach Event
ATTACH;FMTTYPE=image/png:https://oplutheran.com/wp-content/uploads/2024/08/FB-image-JCMH-Connect.png
END:VEVENT
BEGIN:VEVENT
DTSTART;TZID=America/Chicago:20240204T104500
DTEND;TZID=America/Chicago:20240204T123000
DTSTAMP:20260422T085656
CREATED:20180103T175632Z
LAST-MODIFIED:20240202T200006Z
UID:10013947-1707043500-1707049800@oplutheran.com
SUMMARY:OPLC Annual Congregational Meeting
DESCRIPTION:Annual Meeting
URL:https://oplutheran.com/event/oplc-annual-congregational-meeting/
LOCATION:Parish Hall
CATEGORIES:OPLC Event,OPLC Meeting
ATTACH;FMTTYPE=image/jpeg:https://oplutheran.com/wp-content/uploads/2018/01/op-web-photos-012.jpg
END:VEVENT
BEGIN:VEVENT
DTSTART;TZID=America/Chicago:20230406T183000
DTEND;TZID=America/Chicago:20230406T200000
DTSTAMP:20260422T085656
CREATED:20210328T030113Z
LAST-MODIFIED:20230322T170229Z
UID:10013992-1680805800-1680811200@oplutheran.com
SUMMARY:Seder Meal
DESCRIPTION:
URL:https://oplutheran.com/event/maundy-thursday-worship-service/
LOCATION:Parish Hall
CATEGORIES:OPLC Event,Seder Meal
ATTACH;FMTTYPE=image/jpeg:https://oplutheran.com/wp-content/uploads/2021/03/Seder-meal.jpg
END:VEVENT
BEGIN:VEVENT
DTSTART;TZID=America/Chicago:20180807T070000
DTEND;TZID=America/Chicago:20180807T190000
DTSTAMP:20260422T085656
CREATED:20180712T191304Z
LAST-MODIFIED:20180712T191304Z
UID:10013966-1533625200-1533668400@oplutheran.com
SUMMARY:Johnson County Polling Place
DESCRIPTION:
URL:https://oplutheran.com/event/johnson-county-polling-place/
LOCATION:Parish Hall
ATTACH;FMTTYPE=image/png:https://oplutheran.com/wp-content/uploads/2018/07/vote.png
END:VEVENT
BEGIN:VEVENT
DTSTART;TZID=America/Chicago:20180618T173000
DTEND;TZID=America/Chicago:20180618T203000
DTSTAMP:20260422T085656
CREATED:20180328T215746Z
LAST-MODIFIED:20180328T215828Z
UID:10013956-1529343000-1529353800@oplutheran.com
SUMMARY:Vacation Bible School
DESCRIPTION:
URL:https://oplutheran.com/event/vacation-bible-school-3/2018-06-18/
LOCATION:Parish Hall
CATEGORIES:OPLC Event
ATTACH;FMTTYPE=image/png:https://oplutheran.com/wp-content/uploads/2018/03/ShipwreckedLogo_HR-e1527268943618.png
END:VEVENT
BEGIN:VEVENT
DTSTART;TZID=America/Chicago:20180320T170000
DTEND;TZID=America/Chicago:20180320T210000
DTSTAMP:20260422T085656
CREATED:20180222T180703Z
LAST-MODIFIED:20180222T180703Z
UID:10013954-1521565200-1521579600@oplutheran.com
SUMMARY:Day Care Connection
DESCRIPTION:
URL:https://oplutheran.com/event/day-care-connection/
LOCATION:Parish Hall
CATEGORIES:Other
END:VEVENT
BEGIN:VEVENT
DTSTART;TZID=America/Chicago:20180228T110000
DTEND;TZID=America/Chicago:20180228T150000
DTSTAMP:20260422T085656
CREATED:20180221T223703Z
LAST-MODIFIED:20180221T223703Z
UID:10013953-1519815600-1519830000@oplutheran.com
SUMMARY:DAR
DESCRIPTION:
URL:https://oplutheran.com/event/dar-3/
LOCATION:Parish Hall
CATEGORIES:DAR
END:VEVENT
BEGIN:VEVENT
DTSTART;TZID=America/Chicago:20180126T183000
DTEND;TZID=America/Chicago:20180126T200000
DTSTAMP:20260422T085656
CREATED:20180103T181000Z
LAST-MODIFIED:20180103T181000Z
UID:10013949-1516991400-1516996800@oplutheran.com
SUMMARY:Bunco
DESCRIPTION:
URL:https://oplutheran.com/event/bunco/
LOCATION:Parish Hall
CATEGORIES:Joint OPLC & OPP Event,OPLC Event
ATTACH;FMTTYPE=image/jpeg:https://oplutheran.com/wp-content/uploads/2017/02/shutterstock_366747323.jpg
END:VEVENT
BEGIN:VEVENT
DTSTART;TZID=America/Chicago:20180124T110000
DTEND;TZID=America/Chicago:20180124T150000
DTSTAMP:20260422T085656
CREATED:20171114T222331Z
LAST-MODIFIED:20171114T222331Z
UID:10011627-1516791600-1516806000@oplutheran.com
SUMMARY:DAR
DESCRIPTION:
URL:https://oplutheran.com/event/dar-2/
LOCATION:Parish Hall
CATEGORIES:DAR
END:VEVENT
BEGIN:VEVENT
DTSTART;TZID=America/Chicago:20171210T160000
DTEND;TZID=America/Chicago:20171210T190000
DTSTAMP:20260422T085656
CREATED:20171114T224857Z
LAST-MODIFIED:20171124T043340Z
UID:10011631-1512921600-1512932400@oplutheran.com
SUMMARY:Caroling & More
DESCRIPTION:
URL:https://oplutheran.com/event/caroling-more/
LOCATION:Parish Hall
CATEGORIES:Joint OPLC & OPP Event,OPLC Event
ATTACH;FMTTYPE=image/jpeg:https://oplutheran.com/wp-content/uploads/2017/11/shutterstock_339813524.jpg
END:VEVENT
BEGIN:VEVENT
DTSTART;TZID=America/Chicago:20171209T110000
DTEND;TZID=America/Chicago:20171209T140000
DTSTAMP:20260422T085656
CREATED:20171114T233035Z
LAST-MODIFIED:20171114T233035Z
UID:10013935-1512817200-1512828000@oplutheran.com
SUMMARY:OP Historical Society
DESCRIPTION:
URL:https://oplutheran.com/event/op-historical-society-2/
LOCATION:Parish Hall
CATEGORIES:OP Historical
END:VEVENT
BEGIN:VEVENT
DTSTART;TZID=America/Chicago:20171203T130000
DTEND;TZID=America/Chicago:20171203T170000
DTSTAMP:20260422T085656
CREATED:20171114T233152Z
LAST-MODIFIED:20171114T233152Z
UID:10013936-1512306000-1512320400@oplutheran.com
SUMMARY:Bella Party
DESCRIPTION:
URL:https://oplutheran.com/event/bella-party/
LOCATION:Parish Hall
CATEGORIES:Other
END:VEVENT
BEGIN:VEVENT
DTSTART;TZID=America/Chicago:20171123T110000
DTEND;TZID=America/Chicago:20171123T150000
DTSTAMP:20260422T085656
CREATED:20171114T223016Z
LAST-MODIFIED:20171114T223016Z
UID:10011630-1511434800-1511449200@oplutheran.com
SUMMARY:Elder Family
DESCRIPTION:
URL:https://oplutheran.com/event/elder-family/
LOCATION:Parish Hall
CATEGORIES:Other
END:VEVENT
BEGIN:VEVENT
DTSTART;TZID=America/Chicago:20171115T110000
DTEND;TZID=America/Chicago:20171115T150000
DTSTAMP:20260422T085656
CREATED:20171114T222032Z
LAST-MODIFIED:20171114T222032Z
UID:10011626-1510743600-1510758000@oplutheran.com
SUMMARY:DAR
DESCRIPTION:
URL:https://oplutheran.com/event/dar/
LOCATION:Parish Hall
CATEGORIES:DAR
END:VEVENT
BEGIN:VEVENT
DTSTART;TZID=America/Chicago:20171107T070000
DTEND;TZID=America/Chicago:20171107T190000
DTSTAMP:20260422T085656
CREATED:20171107T193604Z
LAST-MODIFIED:20171107T193604Z
UID:10013914-1510038000-1510081200@oplutheran.com
SUMMARY:Polling Place
DESCRIPTION:
URL:https://oplutheran.com/event/polling-place/
LOCATION:Parish Hall
CATEGORIES:Polling Place
END:VEVENT
BEGIN:VEVENT
DTSTART;TZID=America/Chicago:20170612T173000
DTEND;TZID=America/Chicago:20170612T203000
DTSTAMP:20260422T085656
CREATED:20170319T174640Z
LAST-MODIFIED:20170319T174640Z
UID:10011654-1497288600-1497299400@oplutheran.com
SUMMARY:Vacation Bible School
DESCRIPTION:
URL:https://oplutheran.com/event/vacation-bible-school-2/
LOCATION:Parish Hall
CATEGORIES:OPLC Event,VBS
ATTACH;FMTTYPE=image/jpeg:https://oplutheran.com/wp-content/uploads/2017/03/maker-fun-factory-vbs-logo-LoRes-RGB.jpg
END:VEVENT
BEGIN:VEVENT
DTSTART;TZID=America/Chicago:20170507T180000
DTEND;TZID=America/Chicago:20170507T190000
DTSTAMP:20260422T085656
CREATED:20170507T224300Z
LAST-MODIFIED:20170507T224300Z
UID:10011655-1494180000-1494183600@oplutheran.com
SUMMARY:Youth Group
DESCRIPTION:
URL:https://oplutheran.com/event/youth-group/
LOCATION:Parish Hall
CATEGORIES:Joint OPLC & OPP Event
ATTACH;FMTTYPE=image/jpeg:https://oplutheran.com/wp-content/uploads/2017/05/shutterstock_520024129.jpg
END:VEVENT
BEGIN:VEVENT
DTSTART;TZID=America/Chicago:20170429T080000
DTEND;TZID=America/Chicago:20170429T130000
DTSTAMP:20260422T085656
CREATED:20170307T173348Z
LAST-MODIFIED:20170307T173348Z
UID:10011652-1493452800-1493470800@oplutheran.com
SUMMARY:Central States Synod PMA
DESCRIPTION:
URL:https://oplutheran.com/event/central-states-synod-pma-2/
LOCATION:Parish Hall
CATEGORIES:Meeting
END:VEVENT
BEGIN:VEVENT
DTSTART;TZID=America/Chicago:20170428T170000
DTEND;TZID=America/Chicago:20170428T210000
DTSTAMP:20260422T085656
CREATED:20170307T171621Z
LAST-MODIFIED:20170307T171621Z
UID:10011651-1493398800-1493413200@oplutheran.com
SUMMARY:Central States Synod PMA
DESCRIPTION:
URL:https://oplutheran.com/event/central-states-synod-pma/
LOCATION:Parish Hall
CATEGORIES:Meeting
END:VEVENT
BEGIN:VEVENT
DTSTART;TZID=America/Chicago:20170331T180000
DTEND;TZID=America/Chicago:20170331T210000
DTSTAMP:20260422T085656
CREATED:20170124T001814Z
LAST-MODIFIED:20170124T001814Z
UID:10011639-1490983200-1490994000@oplutheran.com
SUMMARY:Girl Scout
DESCRIPTION:
URL:https://oplutheran.com/event/girl-scout/
LOCATION:Parish Hall
CATEGORIES:Girl Scouts
END:VEVENT
BEGIN:VEVENT
DTSTART;TZID=America/Chicago:20170311T090000
DTEND;TZID=America/Chicago:20170311T120000
DTSTAMP:20260422T085656
CREATED:20170124T000841Z
LAST-MODIFIED:20170124T001447Z
UID:10011638-1489222800-1489233600@oplutheran.com
SUMMARY:OP Historical Society
DESCRIPTION:
URL:https://oplutheran.com/event/op-historical-society/2017-03-11/
LOCATION:Parish Hall
CATEGORIES:OP Historical
END:VEVENT
BEGIN:VEVENT
DTSTART;TZID=America/Chicago:20170226T103000
DTEND;TZID=America/Chicago:20170226T123000
DTSTAMP:20260422T085656
CREATED:20170216T154352Z
LAST-MODIFIED:20170216T154833Z
UID:10011649-1488105000-1488112200@oplutheran.com
SUMMARY:Annual Congregational Meeting
DESCRIPTION:Annual Meeting & Potluck
URL:https://oplutheran.com/event/annual-congregational-meeting/
LOCATION:Parish Hall
CATEGORIES:OPLC Meeting
END:VEVENT
BEGIN:VEVENT
DTSTART;TZID=America/Chicago:20170224T183000
DTEND;TZID=America/Chicago:20170224T203000
DTSTAMP:20260422T085656
CREATED:20170215T213023Z
LAST-MODIFIED:20170215T213023Z
UID:10011648-1487961000-1487968200@oplutheran.com
SUMMARY:Ladies BUNCO Night
DESCRIPTION:
URL:https://oplutheran.com/event/ladies-bunco-night/
LOCATION:Parish Hall
CATEGORIES:Ladies Night Out,OPLC Event
ATTACH;FMTTYPE=image/jpeg:https://oplutheran.com/wp-content/uploads/2017/02/shutterstock_366747323.jpg
END:VEVENT
END:VCALENDAR