BEGIN:VCALENDAR
VERSION:2.0
PRODID:-//OP Lutheran Church | Overland Park, KS - ECPv6.15.20//NONSGML v1.0//EN
CALSCALE:GREGORIAN
METHOD:PUBLISH
X-ORIGINAL-URL:https://oplutheran.com
X-WR-CALDESC:Events for OP Lutheran Church | Overland Park, KS
REFRESH-INTERVAL;VALUE=DURATION:PT1H
X-Robots-Tag:noindex
X-PUBLISHED-TTL:PT1H
BEGIN:VTIMEZONE
TZID:America/Chicago
BEGIN:DAYLIGHT
TZOFFSETFROM:-0600
TZOFFSETTO:-0500
TZNAME:CDT
DTSTART:20270314T080000
END:DAYLIGHT
BEGIN:STANDARD
TZOFFSETFROM:-0500
TZOFFSETTO:-0600
TZNAME:CST
DTSTART:20271107T070000
END:STANDARD
BEGIN:DAYLIGHT
TZOFFSETFROM:-0600
TZOFFSETTO:-0500
TZNAME:CDT
DTSTART:20280312T080000
END:DAYLIGHT
BEGIN:STANDARD
TZOFFSETFROM:-0500
TZOFFSETTO:-0600
TZNAME:CST
DTSTART:20281105T070000
END:STANDARD
BEGIN:DAYLIGHT
TZOFFSETFROM:-0600
TZOFFSETTO:-0500
TZNAME:CDT
DTSTART:20290311T080000
END:DAYLIGHT
BEGIN:STANDARD
TZOFFSETFROM:-0500
TZOFFSETTO:-0600
TZNAME:CST
DTSTART:20291104T070000
END:STANDARD
BEGIN:DAYLIGHT
TZOFFSETFROM:-0600
TZOFFSETTO:-0500
TZNAME:CDT
DTSTART:20300310T080000
END:DAYLIGHT
BEGIN:STANDARD
TZOFFSETFROM:-0500
TZOFFSETTO:-0600
TZNAME:CST
DTSTART:20301103T070000
END:STANDARD
BEGIN:DAYLIGHT
TZOFFSETFROM:-0600
TZOFFSETTO:-0500
TZNAME:CDT
DTSTART:20310309T080000
END:DAYLIGHT
BEGIN:STANDARD
TZOFFSETFROM:-0500
TZOFFSETTO:-0600
TZNAME:CST
DTSTART:20311102T070000
END:STANDARD
END:VTIMEZONE
BEGIN:VEVENT
DTSTART;TZID=America/Chicago:20280105T190000
DTEND;TZID=America/Chicago:20280105T203000
DTSTAMP:20260422T071008
CREATED:20250103T195509Z
LAST-MODIFIED:20260227T170619Z
UID:10018640-1830711600-1830717000@oplutheran.com
SUMMARY:Women's Bible Study
DESCRIPTION:Join the Women of OPLC for fellowship. We are back to meeting the first Wednesday of each month.
URL:https://oplutheran.com/event/womens-bible-study-2-3-2-2/2028-01-05/
LOCATION:Parish Hall
CATEGORIES:Bible Study,OPLC Event
ATTACH;FMTTYPE=image/jpeg:https://oplutheran.com/wp-content/uploads/2023/09/bible-study.jpg
END:VEVENT
BEGIN:VEVENT
DTSTART;TZID=America/Chicago:20280202T190000
DTEND;TZID=America/Chicago:20280202T203000
DTSTAMP:20260422T071008
CREATED:20250103T195509Z
LAST-MODIFIED:20260227T170619Z
UID:10018641-1833130800-1833136200@oplutheran.com
SUMMARY:Women's Bible Study
DESCRIPTION:Join the Women of OPLC for fellowship. We are back to meeting the first Wednesday of each month.
URL:https://oplutheran.com/event/womens-bible-study-2-3-2-2/2028-02-02/
LOCATION:Parish Hall
CATEGORIES:Bible Study,OPLC Event
ATTACH;FMTTYPE=image/jpeg:https://oplutheran.com/wp-content/uploads/2023/09/bible-study.jpg
END:VEVENT
BEGIN:VEVENT
DTSTART;TZID=America/Chicago:20280301T190000
DTEND;TZID=America/Chicago:20280301T203000
DTSTAMP:20260422T071008
CREATED:20250103T195509Z
LAST-MODIFIED:20260227T170619Z
UID:10018642-1835550000-1835555400@oplutheran.com
SUMMARY:Women's Bible Study
DESCRIPTION:Join the Women of OPLC for fellowship. We are back to meeting the first Wednesday of each month.
URL:https://oplutheran.com/event/womens-bible-study-2-3-2-2/2028-03-01/
LOCATION:Parish Hall
CATEGORIES:Bible Study,OPLC Event
ATTACH;FMTTYPE=image/jpeg:https://oplutheran.com/wp-content/uploads/2023/09/bible-study.jpg
END:VEVENT
BEGIN:VEVENT
DTSTART;TZID=America/Chicago:20280405T190000
DTEND;TZID=America/Chicago:20280405T203000
DTSTAMP:20260422T071008
CREATED:20250103T195509Z
LAST-MODIFIED:20260227T170619Z
UID:10018643-1838574000-1838579400@oplutheran.com
SUMMARY:Women's Bible Study
DESCRIPTION:Join the Women of OPLC for fellowship. We are back to meeting the first Wednesday of each month.
URL:https://oplutheran.com/event/womens-bible-study-2-3-2-2/2028-04-05/
LOCATION:Parish Hall
CATEGORIES:Bible Study,OPLC Event
ATTACH;FMTTYPE=image/jpeg:https://oplutheran.com/wp-content/uploads/2023/09/bible-study.jpg
END:VEVENT
BEGIN:VEVENT
DTSTART;TZID=America/Chicago:20280503T190000
DTEND;TZID=America/Chicago:20280503T203000
DTSTAMP:20260422T071008
CREATED:20250103T195509Z
LAST-MODIFIED:20260227T170619Z
UID:10018644-1840993200-1840998600@oplutheran.com
SUMMARY:Women's Bible Study
DESCRIPTION:Join the Women of OPLC for fellowship. We are back to meeting the first Wednesday of each month.
URL:https://oplutheran.com/event/womens-bible-study-2-3-2-2/2028-05-03/
LOCATION:Parish Hall
CATEGORIES:Bible Study,OPLC Event
ATTACH;FMTTYPE=image/jpeg:https://oplutheran.com/wp-content/uploads/2023/09/bible-study.jpg
END:VEVENT
BEGIN:VEVENT
DTSTART;TZID=America/Chicago:20280607T190000
DTEND;TZID=America/Chicago:20280607T203000
DTSTAMP:20260422T071008
CREATED:20250103T195509Z
LAST-MODIFIED:20260227T170619Z
UID:10018645-1844017200-1844022600@oplutheran.com
SUMMARY:Women's Bible Study
DESCRIPTION:Join the Women of OPLC for fellowship. We are back to meeting the first Wednesday of each month.
URL:https://oplutheran.com/event/womens-bible-study-2-3-2-2/2028-06-07/
LOCATION:Parish Hall
CATEGORIES:Bible Study,OPLC Event
ATTACH;FMTTYPE=image/jpeg:https://oplutheran.com/wp-content/uploads/2023/09/bible-study.jpg
END:VEVENT
BEGIN:VEVENT
DTSTART;TZID=America/Chicago:20280705T190000
DTEND;TZID=America/Chicago:20280705T203000
DTSTAMP:20260422T071008
CREATED:20250103T195509Z
LAST-MODIFIED:20260227T170619Z
UID:10018646-1846436400-1846441800@oplutheran.com
SUMMARY:Women's Bible Study
DESCRIPTION:Join the Women of OPLC for fellowship. We are back to meeting the first Wednesday of each month.
URL:https://oplutheran.com/event/womens-bible-study-2-3-2-2/2028-07-05/
LOCATION:Parish Hall
CATEGORIES:Bible Study,OPLC Event
ATTACH;FMTTYPE=image/jpeg:https://oplutheran.com/wp-content/uploads/2023/09/bible-study.jpg
END:VEVENT
BEGIN:VEVENT
DTSTART;TZID=America/Chicago:20280802T190000
DTEND;TZID=America/Chicago:20280802T203000
DTSTAMP:20260422T071008
CREATED:20250103T195509Z
LAST-MODIFIED:20260227T170619Z
UID:10018647-1848855600-1848861000@oplutheran.com
SUMMARY:Women's Bible Study
DESCRIPTION:Join the Women of OPLC for fellowship. We are back to meeting the first Wednesday of each month.
URL:https://oplutheran.com/event/womens-bible-study-2-3-2-2/2028-08-02/
LOCATION:Parish Hall
CATEGORIES:Bible Study,OPLC Event
ATTACH;FMTTYPE=image/jpeg:https://oplutheran.com/wp-content/uploads/2023/09/bible-study.jpg
END:VEVENT
BEGIN:VEVENT
DTSTART;TZID=America/Chicago:20280906T190000
DTEND;TZID=America/Chicago:20280906T203000
DTSTAMP:20260422T071008
CREATED:20250103T195509Z
LAST-MODIFIED:20260227T170619Z
UID:10018648-1851879600-1851885000@oplutheran.com
SUMMARY:Women's Bible Study
DESCRIPTION:Join the Women of OPLC for fellowship. We are back to meeting the first Wednesday of each month.
URL:https://oplutheran.com/event/womens-bible-study-2-3-2-2/2028-09-06/
LOCATION:Parish Hall
CATEGORIES:Bible Study,OPLC Event
ATTACH;FMTTYPE=image/jpeg:https://oplutheran.com/wp-content/uploads/2023/09/bible-study.jpg
END:VEVENT
BEGIN:VEVENT
DTSTART;TZID=America/Chicago:20281004T190000
DTEND;TZID=America/Chicago:20281004T203000
DTSTAMP:20260422T071008
CREATED:20250103T195509Z
LAST-MODIFIED:20260227T170619Z
UID:10018649-1854298800-1854304200@oplutheran.com
SUMMARY:Women's Bible Study
DESCRIPTION:Join the Women of OPLC for fellowship. We are back to meeting the first Wednesday of each month.
URL:https://oplutheran.com/event/womens-bible-study-2-3-2-2/2028-10-04/
LOCATION:Parish Hall
CATEGORIES:Bible Study,OPLC Event
ATTACH;FMTTYPE=image/jpeg:https://oplutheran.com/wp-content/uploads/2023/09/bible-study.jpg
END:VEVENT
BEGIN:VEVENT
DTSTART;TZID=America/Chicago:20281101T190000
DTEND;TZID=America/Chicago:20281101T203000
DTSTAMP:20260422T071008
CREATED:20250103T195509Z
LAST-MODIFIED:20260227T170619Z
UID:10018650-1856718000-1856723400@oplutheran.com
SUMMARY:Women's Bible Study
DESCRIPTION:Join the Women of OPLC for fellowship. We are back to meeting the first Wednesday of each month.
URL:https://oplutheran.com/event/womens-bible-study-2-3-2-2/2028-11-01/
LOCATION:Parish Hall
CATEGORIES:Bible Study,OPLC Event
ATTACH;FMTTYPE=image/jpeg:https://oplutheran.com/wp-content/uploads/2023/09/bible-study.jpg
END:VEVENT
BEGIN:VEVENT
DTSTART;TZID=America/Chicago:20281206T190000
DTEND;TZID=America/Chicago:20281206T203000
DTSTAMP:20260422T071008
CREATED:20250103T195509Z
LAST-MODIFIED:20260227T170619Z
UID:10018651-1859742000-1859747400@oplutheran.com
SUMMARY:Women's Bible Study
DESCRIPTION:Join the Women of OPLC for fellowship. We are back to meeting the first Wednesday of each month.
URL:https://oplutheran.com/event/womens-bible-study-2-3-2-2/2028-12-06/
LOCATION:Parish Hall
CATEGORIES:Bible Study,OPLC Event
ATTACH;FMTTYPE=image/jpeg:https://oplutheran.com/wp-content/uploads/2023/09/bible-study.jpg
END:VEVENT
BEGIN:VEVENT
DTSTART;TZID=America/Chicago:20290103T190000
DTEND;TZID=America/Chicago:20290103T203000
DTSTAMP:20260422T071008
CREATED:20250103T195509Z
LAST-MODIFIED:20260227T170619Z
UID:10018652-1862161200-1862166600@oplutheran.com
SUMMARY:Women's Bible Study
DESCRIPTION:Join the Women of OPLC for fellowship. We are back to meeting the first Wednesday of each month.
URL:https://oplutheran.com/event/womens-bible-study-2-3-2-2/2029-01-03/
LOCATION:Parish Hall
CATEGORIES:Bible Study,OPLC Event
ATTACH;FMTTYPE=image/jpeg:https://oplutheran.com/wp-content/uploads/2023/09/bible-study.jpg
END:VEVENT
BEGIN:VEVENT
DTSTART;TZID=America/Chicago:20290207T190000
DTEND;TZID=America/Chicago:20290207T203000
DTSTAMP:20260422T071008
CREATED:20250103T195509Z
LAST-MODIFIED:20260227T170619Z
UID:10018653-1865185200-1865190600@oplutheran.com
SUMMARY:Women's Bible Study
DESCRIPTION:Join the Women of OPLC for fellowship. We are back to meeting the first Wednesday of each month.
URL:https://oplutheran.com/event/womens-bible-study-2-3-2-2/2029-02-07/
LOCATION:Parish Hall
CATEGORIES:Bible Study,OPLC Event
ATTACH;FMTTYPE=image/jpeg:https://oplutheran.com/wp-content/uploads/2023/09/bible-study.jpg
END:VEVENT
BEGIN:VEVENT
DTSTART;TZID=America/Chicago:20290307T190000
DTEND;TZID=America/Chicago:20290307T203000
DTSTAMP:20260422T071008
CREATED:20250103T195509Z
LAST-MODIFIED:20260227T170619Z
UID:10018654-1867604400-1867609800@oplutheran.com
SUMMARY:Women's Bible Study
DESCRIPTION:Join the Women of OPLC for fellowship. We are back to meeting the first Wednesday of each month.
URL:https://oplutheran.com/event/womens-bible-study-2-3-2-2/2029-03-07/
LOCATION:Parish Hall
CATEGORIES:Bible Study,OPLC Event
ATTACH;FMTTYPE=image/jpeg:https://oplutheran.com/wp-content/uploads/2023/09/bible-study.jpg
END:VEVENT
BEGIN:VEVENT
DTSTART;TZID=America/Chicago:20290404T190000
DTEND;TZID=America/Chicago:20290404T203000
DTSTAMP:20260422T071008
CREATED:20250103T195509Z
LAST-MODIFIED:20260227T170619Z
UID:10018655-1870023600-1870029000@oplutheran.com
SUMMARY:Women's Bible Study
DESCRIPTION:Join the Women of OPLC for fellowship. We are back to meeting the first Wednesday of each month.
URL:https://oplutheran.com/event/womens-bible-study-2-3-2-2/2029-04-04/
LOCATION:Parish Hall
CATEGORIES:Bible Study,OPLC Event
ATTACH;FMTTYPE=image/jpeg:https://oplutheran.com/wp-content/uploads/2023/09/bible-study.jpg
END:VEVENT
BEGIN:VEVENT
DTSTART;TZID=America/Chicago:20290502T190000
DTEND;TZID=America/Chicago:20290502T203000
DTSTAMP:20260422T071008
CREATED:20250103T195509Z
LAST-MODIFIED:20260227T170619Z
UID:10018656-1872442800-1872448200@oplutheran.com
SUMMARY:Women's Bible Study
DESCRIPTION:Join the Women of OPLC for fellowship. We are back to meeting the first Wednesday of each month.
URL:https://oplutheran.com/event/womens-bible-study-2-3-2-2/2029-05-02/
LOCATION:Parish Hall
CATEGORIES:Bible Study,OPLC Event
ATTACH;FMTTYPE=image/jpeg:https://oplutheran.com/wp-content/uploads/2023/09/bible-study.jpg
END:VEVENT
BEGIN:VEVENT
DTSTART;TZID=America/Chicago:20290606T190000
DTEND;TZID=America/Chicago:20290606T203000
DTSTAMP:20260422T071008
CREATED:20250103T195509Z
LAST-MODIFIED:20260227T170619Z
UID:10018657-1875466800-1875472200@oplutheran.com
SUMMARY:Women's Bible Study
DESCRIPTION:Join the Women of OPLC for fellowship. We are back to meeting the first Wednesday of each month.
URL:https://oplutheran.com/event/womens-bible-study-2-3-2-2/2029-06-06/
LOCATION:Parish Hall
CATEGORIES:Bible Study,OPLC Event
ATTACH;FMTTYPE=image/jpeg:https://oplutheran.com/wp-content/uploads/2023/09/bible-study.jpg
END:VEVENT
BEGIN:VEVENT
DTSTART;TZID=America/Chicago:20290704T190000
DTEND;TZID=America/Chicago:20290704T203000
DTSTAMP:20260422T071008
CREATED:20250103T195509Z
LAST-MODIFIED:20260227T170619Z
UID:10018658-1877886000-1877891400@oplutheran.com
SUMMARY:Women's Bible Study
DESCRIPTION:Join the Women of OPLC for fellowship. We are back to meeting the first Wednesday of each month.
URL:https://oplutheran.com/event/womens-bible-study-2-3-2-2/2029-07-04/
LOCATION:Parish Hall
CATEGORIES:Bible Study,OPLC Event
ATTACH;FMTTYPE=image/jpeg:https://oplutheran.com/wp-content/uploads/2023/09/bible-study.jpg
END:VEVENT
BEGIN:VEVENT
DTSTART;TZID=America/Chicago:20290801T190000
DTEND;TZID=America/Chicago:20290801T203000
DTSTAMP:20260422T071008
CREATED:20250103T195509Z
LAST-MODIFIED:20260227T170619Z
UID:10018659-1880305200-1880310600@oplutheran.com
SUMMARY:Women's Bible Study
DESCRIPTION:Join the Women of OPLC for fellowship. We are back to meeting the first Wednesday of each month.
URL:https://oplutheran.com/event/womens-bible-study-2-3-2-2/2029-08-01/
LOCATION:Parish Hall
CATEGORIES:Bible Study,OPLC Event
ATTACH;FMTTYPE=image/jpeg:https://oplutheran.com/wp-content/uploads/2023/09/bible-study.jpg
END:VEVENT
BEGIN:VEVENT
DTSTART;TZID=America/Chicago:20290905T190000
DTEND;TZID=America/Chicago:20290905T203000
DTSTAMP:20260422T071008
CREATED:20250103T195509Z
LAST-MODIFIED:20260227T170619Z
UID:10018660-1883329200-1883334600@oplutheran.com
SUMMARY:Women's Bible Study
DESCRIPTION:Join the Women of OPLC for fellowship. We are back to meeting the first Wednesday of each month.
URL:https://oplutheran.com/event/womens-bible-study-2-3-2-2/2029-09-05/
LOCATION:Parish Hall
CATEGORIES:Bible Study,OPLC Event
ATTACH;FMTTYPE=image/jpeg:https://oplutheran.com/wp-content/uploads/2023/09/bible-study.jpg
END:VEVENT
BEGIN:VEVENT
DTSTART;TZID=America/Chicago:20291003T190000
DTEND;TZID=America/Chicago:20291003T203000
DTSTAMP:20260422T071008
CREATED:20250103T195509Z
LAST-MODIFIED:20260227T170619Z
UID:10018661-1885748400-1885753800@oplutheran.com
SUMMARY:Women's Bible Study
DESCRIPTION:Join the Women of OPLC for fellowship. We are back to meeting the first Wednesday of each month.
URL:https://oplutheran.com/event/womens-bible-study-2-3-2-2/2029-10-03/
LOCATION:Parish Hall
CATEGORIES:Bible Study,OPLC Event
ATTACH;FMTTYPE=image/jpeg:https://oplutheran.com/wp-content/uploads/2023/09/bible-study.jpg
END:VEVENT
BEGIN:VEVENT
DTSTART;TZID=America/Chicago:20291107T190000
DTEND;TZID=America/Chicago:20291107T203000
DTSTAMP:20260422T071008
CREATED:20250103T195509Z
LAST-MODIFIED:20260227T170619Z
UID:10018662-1888772400-1888777800@oplutheran.com
SUMMARY:Women's Bible Study
DESCRIPTION:Join the Women of OPLC for fellowship. We are back to meeting the first Wednesday of each month.
URL:https://oplutheran.com/event/womens-bible-study-2-3-2-2/2029-11-07/
LOCATION:Parish Hall
CATEGORIES:Bible Study,OPLC Event
ATTACH;FMTTYPE=image/jpeg:https://oplutheran.com/wp-content/uploads/2023/09/bible-study.jpg
END:VEVENT
BEGIN:VEVENT
DTSTART;TZID=America/Chicago:20291205T190000
DTEND;TZID=America/Chicago:20291205T203000
DTSTAMP:20260422T071008
CREATED:20250103T195509Z
LAST-MODIFIED:20260227T170619Z
UID:10018663-1891191600-1891197000@oplutheran.com
SUMMARY:Women's Bible Study
DESCRIPTION:Join the Women of OPLC for fellowship. We are back to meeting the first Wednesday of each month.
URL:https://oplutheran.com/event/womens-bible-study-2-3-2-2/2029-12-05/
LOCATION:Parish Hall
CATEGORIES:Bible Study,OPLC Event
ATTACH;FMTTYPE=image/jpeg:https://oplutheran.com/wp-content/uploads/2023/09/bible-study.jpg
END:VEVENT
BEGIN:VEVENT
DTSTART;TZID=America/Chicago:20300102T190000
DTEND;TZID=America/Chicago:20300102T203000
DTSTAMP:20260422T071008
CREATED:20250103T195509Z
LAST-MODIFIED:20260227T170619Z
UID:10018664-1893610800-1893616200@oplutheran.com
SUMMARY:Women's Bible Study
DESCRIPTION:Join the Women of OPLC for fellowship. We are back to meeting the first Wednesday of each month.
URL:https://oplutheran.com/event/womens-bible-study-2-3-2-2/2030-01-02/
LOCATION:Parish Hall
CATEGORIES:Bible Study,OPLC Event
ATTACH;FMTTYPE=image/jpeg:https://oplutheran.com/wp-content/uploads/2023/09/bible-study.jpg
END:VEVENT
BEGIN:VEVENT
DTSTART;TZID=America/Chicago:20300206T190000
DTEND;TZID=America/Chicago:20300206T203000
DTSTAMP:20260422T071008
CREATED:20250103T195509Z
LAST-MODIFIED:20260227T170619Z
UID:10018665-1896634800-1896640200@oplutheran.com
SUMMARY:Women's Bible Study
DESCRIPTION:Join the Women of OPLC for fellowship. We are back to meeting the first Wednesday of each month.
URL:https://oplutheran.com/event/womens-bible-study-2-3-2-2/2030-02-06/
LOCATION:Parish Hall
CATEGORIES:Bible Study,OPLC Event
ATTACH;FMTTYPE=image/jpeg:https://oplutheran.com/wp-content/uploads/2023/09/bible-study.jpg
END:VEVENT
BEGIN:VEVENT
DTSTART;TZID=America/Chicago:20300306T190000
DTEND;TZID=America/Chicago:20300306T203000
DTSTAMP:20260422T071008
CREATED:20250103T195509Z
LAST-MODIFIED:20260227T170619Z
UID:10018666-1899054000-1899059400@oplutheran.com
SUMMARY:Women's Bible Study
DESCRIPTION:Join the Women of OPLC for fellowship. We are back to meeting the first Wednesday of each month.
URL:https://oplutheran.com/event/womens-bible-study-2-3-2-2/2030-03-06/
LOCATION:Parish Hall
CATEGORIES:Bible Study,OPLC Event
ATTACH;FMTTYPE=image/jpeg:https://oplutheran.com/wp-content/uploads/2023/09/bible-study.jpg
END:VEVENT
BEGIN:VEVENT
DTSTART;TZID=America/Chicago:20300403T190000
DTEND;TZID=America/Chicago:20300403T203000
DTSTAMP:20260422T071008
CREATED:20250103T195509Z
LAST-MODIFIED:20260227T170619Z
UID:10018667-1901473200-1901478600@oplutheran.com
SUMMARY:Women's Bible Study
DESCRIPTION:Join the Women of OPLC for fellowship. We are back to meeting the first Wednesday of each month.
URL:https://oplutheran.com/event/womens-bible-study-2-3-2-2/2030-04-03/
LOCATION:Parish Hall
CATEGORIES:Bible Study,OPLC Event
ATTACH;FMTTYPE=image/jpeg:https://oplutheran.com/wp-content/uploads/2023/09/bible-study.jpg
END:VEVENT
BEGIN:VEVENT
DTSTART;TZID=America/Chicago:20300501T190000
DTEND;TZID=America/Chicago:20300501T203000
DTSTAMP:20260422T071008
CREATED:20250103T195509Z
LAST-MODIFIED:20260227T170619Z
UID:10018668-1903892400-1903897800@oplutheran.com
SUMMARY:Women's Bible Study
DESCRIPTION:Join the Women of OPLC for fellowship. We are back to meeting the first Wednesday of each month.
URL:https://oplutheran.com/event/womens-bible-study-2-3-2-2/2030-05-01/
LOCATION:Parish Hall
CATEGORIES:Bible Study,OPLC Event
ATTACH;FMTTYPE=image/jpeg:https://oplutheran.com/wp-content/uploads/2023/09/bible-study.jpg
END:VEVENT
BEGIN:VEVENT
DTSTART;TZID=America/Chicago:20300605T190000
DTEND;TZID=America/Chicago:20300605T203000
DTSTAMP:20260422T071008
CREATED:20250103T195509Z
LAST-MODIFIED:20260227T170619Z
UID:10018669-1906916400-1906921800@oplutheran.com
SUMMARY:Women's Bible Study
DESCRIPTION:Join the Women of OPLC for fellowship. We are back to meeting the first Wednesday of each month.
URL:https://oplutheran.com/event/womens-bible-study-2-3-2-2/2030-06-05/
LOCATION:Parish Hall
CATEGORIES:Bible Study,OPLC Event
ATTACH;FMTTYPE=image/jpeg:https://oplutheran.com/wp-content/uploads/2023/09/bible-study.jpg
END:VEVENT
END:VCALENDAR